{"text_format":"1","workbook":"xlsx","n_sheets":5,"sheets":["Lookups","Instructions","Calculator_Manual","Calculator_PPG Toners","Data"],"not_rendered":{"charts":0,"images":1,"macros":1,"external_links":0,"defined_names":7,"comments":0,"pivot_tables":0},"unopened":[],"bounds":{"document_bytes":16777216,"sheet_cells":100000,"rows_first":2000,"rows_last":500,"rows_between":2000,"halvings":0,"cell_chars":16384,"cell_head_chars":4096},"cells_cut":0,"cells_raw":0,"read":"whole","date_system":"1900"}

{"sheet":"Lookups","index":0,"n_rows":52,"n_cols":13,"rows_kept":52,"cut":false,"hidden":true,"merged":[]}
["Lookup Table"]
[]
[-999,"",1]
[12,"CAUTION - You have overfilled this aerosol can.  Max 12 oz fill.",2]
[999,null,3]
[]
[]
["Fill Weight Limits"]
[null,"Grams","Oz"]
["15993",180,9999]
["61003",100,9999]
["61993",9999,3.03]
["62003",9999,3.03]
["62013",9999,3.03]
[]
[]
[]
["MIR Calculation"]
["Additions","Part Number","Volume (oz)","MIR","Weighted MIR",null,null,null,"Part","Description","Fill Wgt (oz)","Max Fill (oz)","CA MIR"]
[null,15993,5.43,0.45100000000000001,{"$f":"ROUND(+C20*D20,4)","v":2.4489000000000001},null,null,null,"15993","Color Coat - Universal Color Coat",5.4320987654320989,12,0.45100000000000001]
[1,null,null,null,null,null,null,null,"61003","Multi-Coat Aerosol Blank",8.4656084656084651,12,0.505]
[2,null,null,null,null,null,null,null,"61993","Custom Fill Aerosol Blank",8.3950617283950617,{"$f":"ROUND(+K22+3,2)","v":11.4},0.505]
[3,null,null,null,null,null,null,null,"62003","Custom Fill Waterborne Aerosol Blank",7.0546737213403876,10,0.64500000000000002]
[4,null,null,null,null,null,null,null,"62013","Custom Fill+ High Build Aerosol Blank",3.8800705467372132,6.9,0.45100000000000001]
[5]
["Totals"]
["Calculated MIR (Weighted MIR / Volume)"]
[]
[]
[]
["bg"]
["density (lbs per gallon)",8.27]
["grams per lb",454]
["total grams in density",{"$f":"+B33*B32","v":3754.58}]
["no in mix",40]
["portion of gallon",{"$f":"+B35/B34","v":1.0653655002690048E-2}]
["oz",{"$f":"+B36*128","v":1.3636678403443261}]
[]
[]
["grams per lb",454]
["oz per gallon",128]
[]
[]
[]
[]
[]
["OZ per UOM","OZ"]
["Half Pint",6]
["Pint",16]
["Quart",32]
["Half Gallon",64]
["Gallon",128]

{"sheet":"Instructions","index":1,"n_rows":35,"n_cols":9,"rows_kept":35,"cut":false,"hidden":false,"merged":[]}
[null,null,null,null,null,null,null,null,"2019-10-10"]
[]
[]
[]
[]
[]
[]
[]
[]
[]
[]
[]
[]
[]
[]
[]
[]
[]
[]
[]
[]
[]
[]
[]
["Additional Instructions and Helpful Tips"]
[]
["Information on aerosol blanks"]
["https://www.semproducts.com/products/refinish/aerosol-filling"]
[]
["SOP on how to fill an aerosol blank can"]
["https://www.semproducts.com/blog/filling-custom-filltm-aerosol-blanks-standard-operating-procedure-sop"]
[]
["SEM Contact Info:"]
["Technical - 1-800-831-1122  -  tech@semproducts.com"]
["Customer Care - 1-866-327-7829  -  custcare@semproducts.com"]

{"sheet":"Calculator_Manual","index":2,"n_rows":43,"n_cols":14,"rows_kept":43,"cut":false,"hidden":false,"merged":[[33,1,34,8]]}
[null,null,null,null,null,"**  HIDE  **",null,14]
[null,null,2,"lookup column",null,6,12,10]
[null,"MANUAL ENTRY"]
[]
[]
[null,"MIR Calculator using California MIR Values",null,"Enter data in yellow",null,null,null,null,"MIR Calculated"]
[null,{"$f":"NOW()","v":"2019-12-05T10:33:20.850"},null,null,null,null,null,null,{"$f":"IFERROR(ROUND(+I29/G29,2),0)","v":0}]
[]
[]
[null,"Part Number","Description",null,null,"Density","Fill (Oz)","Ingredient MIR","Weighted MIR"]
["SEM Aerosol Part No",null,{"$f":"IFERROR(IFERROR(VLOOKUP($B11,adds,C$2,FALSE),VLOOKUP(TEXT($B11,0),adds,C$2,FALSE)),\"\")","v":""},null,null,{"$f":"IFERROR(ROUND(IFERROR(VLOOKUP($B11,adds,F$2,FALSE),VLOOKUP(TEXT($B11,0),adds,F$2,FALSE)),4),0)","v":0},{"$f":"IFERROR(ROUND(IFERROR(VLOOKUP($B11,adds,G$2,FALSE),VLOOKUP(TEXT($B11,0),adds,G$2,FALSE)),4),0)","v":0},{"$f":"IFERROR(ROUND(IFERROR(VLOOKUP($B11,adds,H$2,FALSE),VLOOKUP(TEXT($B11,0),adds,H$2,FALSE)),4),0)","v":0},{"$f":"IFERROR(ROUND(+G11*H11,4),0)","v":0}]
[null,{"$f":"IFERROR(IFERROR(VLOOKUP(B11,Lookups!$I$20:$M$24,4,FALSE),VLOOKUP(TEXT(B11,0),Lookups!$I$20:$M$24,4,FALSE)),\"\")","v":""},"oz Total recommended fill",{"$f":"IF(ISBLANK(B11),0,+B12-G11)","v":0},"oz Liquid Fill"]
[]
[null,"Enter Paint Formula Details Below"]
[null,"Volume","Quart",{"$f":"VLOOKUP(C15,uom,2,FALSE)","v":32},"US Fluid Oz"]
[null,"Part Number","Description","Grams Added (individual)","Grams for Custom Fill","Density","Fill (Oz)","Ingredient MIR","Weighted MIR"]
["Part No 1",null,{"$f":"IFERROR(IFERROR(VLOOKUP($B17,adds,C$2,FALSE),VLOOKUP(TEXT($B17,0),adds,C$2,FALSE)),\"\")","v":""},null,{"$f":"+D17*D$12/D$15","v":0},{"$f":"IFERROR(ROUND(IFERROR(VLOOKUP($B17,adds,F$2,FALSE),VLOOKUP(TEXT($B17,0),adds,F$2,FALSE)),4),0)","v":0},{"$f":"IFERROR(ROUND(+E17/(F17*454)*128,4),0)","v":0},{"$f":"IFERROR(ROUND(IFERROR(VLOOKUP($B17,adds,H$2,FALSE),VLOOKUP(TEXT($B17,0),adds,H$2,FALSE)),4),0)","v":0},{"$f":"IFERROR(ROUND(+G17*H17,4),0)","v":0}]
["Part No 2",null,"",null,0,0,{"$f":"IFERROR(ROUND(+E18/(F18*454)*128,4),0)","v":0},0,0]
["Part No 3",null,"",null,0,0,0,0,0]
["Part No 4",null,"",null,0,0,0,0,0]
["Part No 5",null,"",null,0,0,0,0,0]
["Part No 6",null,"",null,{"$f":"+D22*D$12/D$15","v":0},0,0,0,0]
["Part No 7",null,"",null,{"$f":"+D23*D$12/D$15","v":0},0,0,0,0]
["Part No 8",null,"",null,0,0,0,0,0]
["Part No 9",null,"",null,0,0,0,0,0]
["Part No 10",null,"",null,0,0,0,0,0]
[null,"Total Adds",null,{"$f":"SUM(D17:D26)","v":0},{"$f":"SUM(E17:E26)","v":0},null,{"$f":"SUM(G17:G26)","v":0},null,{"$f":"SUM(I17:I26)","v":0}]
[null,null,null,{"$f":"IFERROR(IF(D27>VLOOKUP(TEXT(B11,0),Lookups!A10:C14,2,FALSE),\"OVERFILLED\",\"\"),\"\")","v":""},null,null,{"$f":"IFERROR(IF(G27>VLOOKUP(TEXT(B11,0),Lookups!A10:C14,3,FALSE),\"OVERFILLED\",\"\"),\"\")","v":""}]
[null,"Grand Total",null,null,null,null,{"$f":"+G27+G11","v":0},null,{"$f":"+I27+I11","v":0}]
[]
[null,"Calculator Notes:"]
[null,"See instructions on instructions tab"]
[]
[null,"Please consult local, state and national regulations for important regulatory guidelines.  California's Regulation for Reducing the Ozone Formed from Aerosol Coating Product Emissions can be found at the link below and those limits govern consumption in California."]
[]
[null,"https://ww3.arb.ca.gov/consprod/regs/2019/article_3_final_5_2019.pdf"]
[]
[null,"SEM Contact Info:"]
[null,"Technical - 1-800-831-1122  -  tech@semproducts.com"]
[null,"Customer Care - 1-866-327-7829  -  custcare@semproducts.com"]
[null,null,null,null,null,null,null,null,null,null,null,null,null,{"$f":"+I7","v":0}]
[null,null,null,null,null,null,null,null,null,null,null,"Category","","MIR value"]
[null,null,null,null,null,null,null,null,null,null,null,null,null,{"$f":"NOW()","v":"2019-12-05T10:33:20.850"}]

{"sheet":"Calculator_PPG Toners","index":3,"n_rows":43,"n_cols":14,"rows_kept":43,"cut":false,"hidden":false,"merged":[[33,1,34,8]]}
[null,null,null,null,null,"**  HIDE  **",null,14]
[null,null,2,"lookup column",null,6,12,10]
[null,"CALCULATOR FOR PPG TONERS"]
[]
[]
[null,"MIR Calculator using California MIR Values",null,"Enter data in yellow",null,null,null,null,"MIR Calculated"]
[null,{"$f":"NOW()","v":"2019-12-05T10:33:20.850"},null,null,null,null,null,null,{"$f":"IFERROR(ROUND(+I29/G29,2),0)","v":0}]
[]
[]
[null,"Part Number","Description",null,null,"Density","Fill (Oz)","Ingredient MIR","Weighted MIR"]
["SEM Aerosol Part No",null,{"$f":"IFERROR(IFERROR(VLOOKUP($B11,adds,C$2,FALSE),VLOOKUP(TEXT($B11,0),adds,C$2,FALSE)),\"\")","v":""},null,null,{"$f":"IFERROR(ROUND(IFERROR(VLOOKUP($B11,adds,F$2,FALSE),VLOOKUP(TEXT($B11,0),adds,F$2,FALSE)),4),0)","v":0},{"$f":"IFERROR(ROUND(IFERROR(VLOOKUP($B11,adds,G$2,FALSE),VLOOKUP(TEXT($B11,0),adds,G$2,FALSE)),4),0)","v":0},{"$f":"IFERROR(ROUND(IFERROR(VLOOKUP($B11,adds,H$2,FALSE),VLOOKUP(TEXT($B11,0),adds,H$2,FALSE)),4),0)","v":0},{"$f":"IFERROR(ROUND(+G11*H11,4),0)","v":0}]
[null,{"$f":"IFERROR(IFERROR(VLOOKUP(B11,Lookups!$I$20:$M$24,4,FALSE),VLOOKUP(TEXT(B11,0),Lookups!$I$20:$M$24,4,FALSE)),\"\")","v":""},"oz Total recommended fill",{"$f":"IF(ISBLANK(B11),0,+B12-G11)","v":0},"oz Liquid Fill"]
[]
[null,"Enter Paint Formula Details Below"]
[null,"Volume","Pint",{"$f":"VLOOKUP(C15,uom,2,FALSE)","v":16},"US Fluid Oz"]
[null,"Part Number","Description","Grams Added (individual)","Grams for Custom Fill","Density","Fill (Oz)","Ingredient MIR","Weighted MIR"]
["Part No 1",null,{"$f":"IFERROR(IFERROR(VLOOKUP($B17,adds,C$2,FALSE),VLOOKUP(TEXT($B17,0),adds,C$2,FALSE)),\"\")","v":""},null,{"$f":"+D17*D$12/D$15","v":0},{"$f":"IFERROR(ROUND(IFERROR(VLOOKUP($B17,adds,F$2,FALSE),VLOOKUP(TEXT($B17,0),adds,F$2,FALSE)),4),0)","v":0},{"$f":"IFERROR(ROUND(+E17/(F17*454)*128,4),0)","v":0},{"$f":"IFERROR(ROUND(IFERROR(VLOOKUP($B17,adds,H$2,FALSE),VLOOKUP(TEXT($B17,0),adds,H$2,FALSE)),4),0)","v":0},{"$f":"IFERROR(ROUND(+G17*H17,4),0)","v":0}]
["Part No 2",null,"",null,0,0,{"$f":"IFERROR(ROUND(+E18/(F18*454)*128,4),0)","v":0},0,0]
["Part No 3",null,"",null,0,0,0,0,0]
["Part No 4",null,"",null,0,0,0,0,0]
["Part No 5",null,"",null,0,0,0,0,0]
["Part No 6",null,"",null,0,0,0,0,0]
["Part No 7",null,"",null,0,0,0,0,0]
["Part No 8",null,"",null,0,0,0,0,0]
["Part No 9",null,"",null,0,0,0,0,0]
["Part No 10",null,"",null,0,0,0,0,0]
[null,"Total Adds",null,{"$f":"SUM(D17:D26)","v":0},{"$f":"SUM(E17:E26)","v":0},null,{"$f":"SUM(G17:G26)","v":0},null,{"$f":"SUM(I17:I26)","v":0}]
[null,null,null,{"$f":"IFERROR(IF(D27>VLOOKUP(TEXT(B11,0),Lookups!A10:C14,2,FALSE),\"OVERFILLED\",\"\"),\"\")","v":""},null,null,{"$f":"IFERROR(IF(G27>VLOOKUP(TEXT(B11,0),Lookups!A10:C14,3,FALSE),\"OVERFILLED\",\"\"),\"\")","v":""}]
[null,"Grand Total",null,null,null,null,{"$f":"+G27+G11","v":0},null,{"$f":"+I27+I11","v":0}]
[]
[null,"Calculator Notes:"]
[null,"See instructions on instructions tab"]
[]
[null,"Please consult local, state and national regulations for important regulatory guidelines.  California's Regulation for Reducing the Ozone Formed from Aerosol Coating Product Emissions can be found at the link below and those limits govern consumption in California."]
[]
[null,"https://ww3.arb.ca.gov/consprod/regs/2019/article_3_final_5_2019.pdf"]
[]
[null,"SEM Contact Info:"]
[null,"Technical - 1-800-831-1122  -  tech@semproducts.com"]
[null,"Customer Care - 1-866-327-7829  -  custcare@semproducts.com"]
[null,null,null,null,null,null,null,null,null,null,null,null,null,{"$f":"+I7","v":0}]
[null,null,null,null,null,null,null,null,null,null,null,"Category","","MIR value"]
[null,null,null,null,null,null,null,null,null,null,null,null,null,{"$f":"NOW()","v":"2019-12-05T10:33:20.850"}]

{"sheet":"Data","index":4,"n_rows":388,"n_cols":13,"rows_kept":388,"cut":false,"hidden":true,"merged":[]}
["2019-10-10T06:35:00.190"]
[]
[]
[null,null,null,null,null,null,null,null,null,{"$f":"MAX(J7:J254)","v":7.39}]
[]
["Component Default Alias","Component Default Alias Description","Component Property","Paint System Code","Component ID","Density","Solid Content","Volume % Solids","Water Content","California MIR data",null,"OZ"]
[{"$f":"\"DBC500\"","v":"DBC500"},{"$f":"\"BLENDER\"","v":"BLENDER"},{"$f":"\"Base Maker\"","v":"Base Maker"},{"$f":"\"DBC MET\"","v":"DBC MET"},{"$f":"\"20000175\"","v":"20000175"},{"$f":"\"7.748\"","v":"7.748"},{"$f":"\"26.22\"","v":"26.22"},{"$f":"\"21.57\"","v":"21.57"},{"$f":"\"0\"","v":"0"},2.9914124570999996,0]
[{"$f":"\"DBX1689\"","v":"DBX1689"},{"$f":"\"CLEAR\"","v":"CLEAR"},{"$f":"\"Base Maker\"","v":"Base Maker"},"DBC MET",{"$f":"\"20000177\"","v":"20000177"},{"$f":"\"7.542\"","v":"7.542"},{"$f":"\"13.3\"","v":"13.3"},{"$f":"\"10.3\"","v":"10.3"},"0",3.1802423914600007,0]
[{"$f":"\"DCU2021\"","v":"DCU2021"},{"$f":"\"CLEAR\"","v":"CLEAR"},{"$f":"\"Mixing Clear\"","v":"Mixing Clear"},"DBC MET",{"$f":"\"20000181\"","v":"20000181"},{"$f":"\"7.933\"","v":"7.933"},{"$f":"\"49.3\"","v":"49.3"},{"$f":"\"43.33\"","v":"43.33"},"0",2.8927649999999998,0]
[{"$f":"\"DMD1602\"","v":"DMD1602"},{"$f":"\"GS YELLOW\"","v":"GS YELLOW"},{"$f":"\"Normal Solid\"","v":"Normal Solid"},"DBC MET",{"$f":"\"20000269\"","v":"20000269"},{"$f":"\"7.929\"","v":"7.929"},{"$f":"\"26.89\"","v":"26.89"},{"$f":"\"21.2\"","v":"21.2"},"0",3.3410467518729661,0]
[{"$f":"\"DMD1603\"","v":"DMD1603"},{"$f":"\"RED SHADE YELLOW\"","v":"RED SHADE YELLOW"},"Normal Solid","DBC MET",{"$f":"\"20000972\"","v":"20000972"},{"$f":"\"7.943\"","v":"7.943"},{"$f":"\"23.14\"","v":"23.14"},{"$f":"\"16.38\"","v":"16.38"},"0",3.2660370960965701,0]
[{"$f":"\"DMD1605\"","v":"DMD1605"},{"$f":"\"MAGENTA\"","v":"MAGENTA"},"Normal Solid","DBC MET",{"$f":"\"20000270\"","v":"20000270"},{"$f":"\"7.871\"","v":"7.871"},{"$f":"\"24.97\"","v":"24.97"},{"$f":"\"19.27\"","v":"19.27"},"0",3.7948912073327996,0]
[{"$f":"\"DMD1606\"","v":"DMD1606"},{"$f":"\"MAROON\"","v":"MAROON"},"Normal Solid","DBC MET",{"$f":"\"20000271\"","v":"20000271"},{"$f":"\"7.874\"","v":"7.874"},{"$f":"\"24.4\"","v":"24.4"},{"$f":"\"18.97\"","v":"18.97"},{"$f":"\"0.01\"","v":"0.01"},2.5506869864874817,0]
[{"$f":"\"DMD1607\"","v":"DMD1607"},{"$f":"\"BLUE\"","v":"BLUE"},"Normal Solid","DBC MET",{"$f":"\"20000272\"","v":"20000272"},{"$f":"\"7.969\"","v":"7.969"},{"$f":"\"28.13\"","v":"28.13"},{"$f":"\"21.68\"","v":"21.68"},{"$f":"\"0\"","v":"0"},3.2981815498905194,0]
[{"$f":"\"DMD1608\"","v":"DMD1608"},{"$f":"\"LF ORANGE\"","v":"LF ORANGE"},"Normal Solid","DBC MET",{"$f":"\"20000273\"","v":"20000273"},{"$f":"\"8.166\"","v":"8.166"},{"$f":"\"33.59\"","v":"33.59"},{"$f":"\"26.32\"","v":"26.32"},"0",3.0546470927613578,0]
[{"$f":"\"DMD1609\"","v":"DMD1609"},{"$f":"\"QUINDO VIOLET\"","v":"QUINDO VIOLET"},"Normal Solid","DBC MET",{"$f":"\"20000949\"","v":"20000949"},{"$f":"\"7.966\"","v":"7.966"},{"$f":"\"25.96\"","v":"25.96"},{"$f":"\"27.17\"","v":"27.17"},"0",2.5590001474039998,0]
[{"$f":"\"DMD1610\"","v":"DMD1610"},{"$f":"\"ORANGE\"","v":"ORANGE"},"Normal Solid","DBC MET",{"$f":"\"20000947\"","v":"20000947"},{"$f":"\"8.225\"","v":"8.225"},{"$f":"\"30.08\"","v":"30.08"},{"$f":"\"21.67\"","v":"21.67"},"0",2.012674861279812,0]
[{"$f":"\"DMD1611\"","v":"DMD1611"},{"$f":"\"ORANGE\"","v":"ORANGE"},"Normal Solid","DBC MET",{"$f":"\"64001010\"","v":"64001010"},{"$f":"\"8.037\"","v":"8.037"},{"$f":"\"33.85\"","v":"33.85"},{"$f":"\"27.71\"","v":"27.71"},"0",0,0]
[{"$f":"\"DMD1612\"","v":"DMD1612"},{"$f":"\"WEAK GOLD\"","v":"WEAK GOLD"},"Normal Solid","DBC MET",{"$f":"\"64000886\"","v":"64000886"},{"$f":"\"7.803\"","v":"7.803"},{"$f":"\"22.71\"","v":"22.71"},{"$f":"\"17.74\"","v":"17.74"},"0",1.4775223912658142,0]
[{"$f":"\"DMD1613\"","v":"DMD1613"},{"$f":"\"WEAK BLUE\"","v":"WEAK BLUE"},"Normal Solid","DBC MET",{"$f":"\"64000887\"","v":"64000887"},{"$f":"\"7.78\"","v":"7.78"},{"$f":"\"22.71\"","v":"22.71"},{"$f":"\"18.02\"","v":"18.02"},"0",2.9672300500947881,0]
[{"$f":"\"DMD1614\"","v":"DMD1614"},{"$f":"\"WEAK YELLOW OXIDE\"","v":"WEAK YELLOW OXIDE"},"Normal Solid","DBC MET",{"$f":"\"64000888\"","v":"64000888"},{"$f":"\"7.887\"","v":"7.887"},{"$f":"\"24.36\"","v":"24.36"},{"$f":"\"18.25\"","v":"18.25"},"0",2.8407060779658266,0]
[{"$f":"\"DMD1615\"","v":"DMD1615"},{"$f":"\"WEAK GREEN\"","v":"WEAK GREEN"},"Normal Solid","DBC MET",{"$f":"\"64000889\"","v":"64000889"},{"$f":"\"7.794\"","v":"7.794"},{"$f":"\"24.82\"","v":"24.82"},{"$f":"\"19.62\"","v":"19.62"},"0",1.829918916023648,0]
[{"$f":"\"DMD1616\"","v":"DMD1616"},{"$f":"\"WEAK RED\"","v":"WEAK RED"},"Normal Solid","DBC MET",{"$f":"\"64000890\"","v":"64000890"},{"$f":"\"7.768\"","v":"7.768"},{"$f":"\"22.74\"","v":"22.74"},{"$f":"\"18.14\"","v":"18.14"},"0",1.4781883824498141,0]
[{"$f":"\"DMD1621\"","v":"DMD1621"},{"$f":"\"FINE TITANIUM WHITE\"","v":"FINE TITANIUM WHITE"},{"$f":"\"Flop Adjuster/Tone controller\"","v":"Flop Adjuster/Tone controller"},"DBC MET",{"$f":"\"64001007\"","v":"64001007"},{"$f":"\"9.476\"","v":"9.476"},{"$f":"\"40.24\"","v":"40.24"},{"$f":"\"22.2\"","v":"22.2"},"0",2.5635793807476164,0]
[{"$f":"\"DMD1625\"","v":"DMD1625"},{"$f":"\"YELLOW\"","v":"YELLOW"},{"$f":"\"Normal Solid\"","v":"Normal Solid"},"DBC MET",{"$f":"\"64001011\"","v":"64001011"},{"$f":"\"10.951\"","v":"10.951"},{"$f":"\"50.91\"","v":"50.91"},{"$f":"\"26.65\"","v":"26.65"},"0",2.1454069059089043,0]
[{"$f":"\"DMD1627\"","v":"DMD1627"},{"$f":"\"INDO BLUE\"","v":"INDO BLUE"},"Normal Solid","DBC MET",{"$f":"\"64001055\"","v":"64001055"},{"$f":"\"7.916\"","v":"7.916"},{"$f":"\"31.39\"","v":"31.39"},{"$f":"\"24.93\"","v":"24.93"},"0",3.5447508221789006,0]
[{"$f":"\"DMD1628\"","v":"DMD1628"},{"$f":"\"PERYLENE VIOLET\"","v":"PERYLENE VIOLET"},"Normal Solid","DBC MET",{"$f":"\"64001213\"","v":"64001213"},{"$f":"\"8.018\"","v":"8.018"},{"$f":"\"30\"","v":"30"},{"$f":"\"24.07\"","v":"24.07"},"0",2.8213243735479479,0]
[{"$f":"\"DMD1630\"","v":"DMD1630"},{"$f":"\"CARMINE\"","v":"CARMINE"},"Normal Solid","DBC MET",{"$f":"\"64001241\"","v":"64001241"},{"$f":"\"7.839\"","v":"7.839"},{"$f":"\"26.43\"","v":"26.43"},{"$f":"\"21.15\"","v":"21.15"},"0",1.5574334811465962,0]
[{"$f":"\"DMD1632\"","v":"DMD1632"},{"$f":"\"OLIVE\"","v":"OLIVE"},"Normal Solid","DBC MET",{"$f":"\"64001231\"","v":"64001231"},{"$f":"\"8.064\"","v":"8.064"},{"$f":"\"26.91\"","v":"26.91"},{"$f":"\"20.24\"","v":"20.24"},"0",1.412796730624466,0]
[{"$f":"\"DMD1634\"","v":"DMD1634"},{"$f":"\"ORGANIC BROWN\"","v":"ORGANIC BROWN"},"Normal Solid","DBC MET",{"$f":"\"64001497\"","v":"64001497"},{"$f":"\"7.8\"","v":"7.8"},{"$f":"\"28.72\"","v":"28.72"},{"$f":"\"24.02\"","v":"24.02"},"0",2.8008634080556085,0]
[{"$f":"\"DMD1647\"","v":"DMD1647"},{"$f":"\"CARBON BLACK\"","v":"CARBON BLACK"},"Normal Solid","DBC MET",{"$f":"\"64001498\"","v":"64001498"},{"$f":"\"7.96\"","v":"7.96"},{"$f":"\"27.03\"","v":"27.03"},{"$f":"\"21.17\"","v":"21.17"},"0",2.9951186769131515,0]
[{"$f":"\"DMD1659\"","v":"DMD1659"},{"$f":"\"CLEAN RED-SHADE PHTHALO BLUE\"","v":"CLEAN RED-SHADE PHTHALO BLUE"},"Normal Solid","DBC MET",{"$f":"\"64001692\"","v":"64001692"},{"$f":"\"9.883\"","v":"9.883"},{"$f":"\"20.79\"","v":"20.79"},{"$f":"\"20.08\"","v":"20.08"},"0",0.75442842972799995,0]
[{"$f":"\"DMD1675\"","v":"DMD1675"},{"$f":"\"BLUE\"","v":"BLUE"},"Normal Solid","DBC MET",{"$f":"\"20000274\"","v":"20000274"},{"$f":"\"7.921\"","v":"7.921"},{"$f":"\"26.92\"","v":"26.92"},{"$f":"\"21.01\"","v":"21.01"},"0",3.1453356341833523,0]
[{"$f":"\"DMD1676\"","v":"DMD1676"},{"$f":"\"BLUE\"","v":"BLUE"},"Normal Solid","DBC MET",{"$f":"\"20000275\"","v":"20000275"},{"$f":"\"7.961\"","v":"7.961"},{"$f":"\"27.32\"","v":"27.32"},{"$f":"\"20.79\"","v":"20.79"},"0",3.1838265579342302,0]
[{"$f":"\"DMD1677\"","v":"DMD1677"},{"$f":"\"RED\"","v":"RED"},"Normal Solid","DBC MET",{"$f":"\"20000276\"","v":"20000276"},{"$f":"\"7.981\"","v":"7.981"},{"$f":"\"28.05\"","v":"28.05"},{"$f":"\"21.45\"","v":"21.45"},"0",2.8861697195332079,0]
[{"$f":"\"DMD1678\"","v":"DMD1678"},{"$f":"\"GREEN\"","v":"GREEN"},"Normal Solid","DBC MET",{"$f":"\"20000277\"","v":"20000277"},{"$f":"\"8.059\"","v":"8.059"},{"$f":"\"28.45\"","v":"28.45"},{"$f":"\"21.07\"","v":"21.07"},"0",3.4360326728741839,0]
[{"$f":"\"DMD1679\"","v":"DMD1679"},{"$f":"\"RED\"","v":"RED"},"Normal Solid","DBC MET",{"$f":"\"20000278\"","v":"20000278"},{"$f":"\"7.824\"","v":"7.824"},{"$f":"\"23.4\"","v":"23.4"},{"$f":"\"17.97\"","v":"17.97"},"0",2.9364053395624787,0]
[{"$f":"\"DMD1680\"","v":"DMD1680"},{"$f":"\"FINE ALUM.\"","v":"FINE ALUM."},{"$f":"\"Metallic\"","v":"Metallic"},"DBC MET",{"$f":"\"20000279\"","v":"20000279"},{"$f":"\"7.907\"","v":"7.907"},{"$f":"\"24.02\"","v":"24.02"},{"$f":"\"17.47\"","v":"17.47"},"0",2.6527754762136806,0]
[{"$f":"\"DMD1681\"","v":"DMD1681"},{"$f":"\"MED. ALUM.\"","v":"MED. ALUM."},{"$f":"\"Metallic\"","v":"Metallic"},"DBC MET",{"$f":"\"20000280\"","v":"20000280"},{"$f":"\"7.892\"","v":"7.892"},{"$f":"\"23.88\"","v":"23.88"},{"$f":"\"17.33\"","v":"17.33"},"0",2.7149591565278186,0]
[{"$f":"\"DMD1682\"","v":"DMD1682"},{"$f":"\"CRS. ALUM.\"","v":"CRS. ALUM."},{"$f":"\"Metallic\"","v":"Metallic"},"DBC MET",{"$f":"\"20000281\"","v":"20000281"},{"$f":"\"7.896\"","v":"7.896"},{"$f":"\"23.91\"","v":"23.91"},{"$f":"\"17.48\"","v":"17.48"},"0",2.7540120228727085,0]
[{"$f":"\"DMD1683\"","v":"DMD1683"},{"$f":"\"BLACK\"","v":"BLACK"},{"$f":"\"Normal Solid\"","v":"Normal Solid"},"DBC MET",{"$f":"\"20000282\"","v":"20000282"},{"$f":"\"7.605\"","v":"7.605"},{"$f":"\"19\"","v":"19"},{"$f":"\"15\"","v":"15"},"0",5.0031271160560005,0]
[{"$f":"\"DMD1684\"","v":"DMD1684"},{"$f":"\"WHITE\"","v":"WHITE"},{"$f":"\"Normal Solid\"","v":"Normal Solid"},"DBC MET",{"$f":"\"20000283\"","v":"20000283"},{"$f":"\"10.85\"","v":"10.85"},{"$f":"\"52.06\"","v":"52.06"},{"$f":"\"29.51\"","v":"29.51"},"0",2.3910802950248202,0]
[{"$f":"\"DMD1685\"","v":"DMD1685"},{"$f":"\"SUPER FINE BRIGHT ALUMINUM\"","v":"SUPER FINE BRIGHT ALUMINUM"},{"$f":"\"Metallic\"","v":"Metallic"},"DBC MET",{"$f":"\"64003234\"","v":"64003234"},{"$f":"\"7.844\"","v":"7.844"},{"$f":"\"22.69\"","v":"22.69"},{"$f":"\"16.86\"","v":"16.86"},"0",1.5002289726997202,0]
[{"$f":"\"DMD1686\"","v":"DMD1686"},{"$f":"\"FINE ALUM.\"","v":"FINE ALUM."},{"$f":"\"Metallic\"","v":"Metallic"},"DBC MET",{"$f":"\"20000284\"","v":"20000284"},{"$f":"\"7.867\"","v":"7.867"},{"$f":"\"23.45\"","v":"23.45"},{"$f":"\"17.11\"","v":"17.11"},"0",2.769536828051157,0]
[{"$f":"\"DMD1687\"","v":"DMD1687"},{"$f":"\"MED. ALUM.\"","v":"MED. ALUM."},{"$f":"\"Metallic\"","v":"Metallic"},"DBC MET",{"$f":"\"20000285\"","v":"20000285"},{"$f":"\"7.861\"","v":"7.861"},{"$f":"\"23.47\"","v":"23.47"},{"$f":"\"17.38\"","v":"17.38"},"0",3.0054256774343782,0]
[{"$f":"\"DMD1690\"","v":"DMD1690"},{"$f":"\"CRS. ALUM.\"","v":"CRS. ALUM."},{"$f":"\"Metallic\"","v":"Metallic"},"DBC MET",{"$f":"\"20000286\"","v":"20000286"},{"$f":"\"7.861\"","v":"7.861"},{"$f":"\"23.48\"","v":"23.48"},{"$f":"\"17.12\"","v":"17.12"},"0",2.7592241381174429,0]
[{"$f":"\"DMD1692\"","v":"DMD1692"},{"$f":"\"RED\"","v":"RED"},{"$f":"\"Normal Solid\"","v":"Normal Solid"},"DBC MET",{"$f":"\"20000287\"","v":"20000287"},{"$f":"\"7.991\"","v":"7.991"},{"$f":"\"29.6\"","v":"29.6"},{"$f":"\"22.93\"","v":"22.93"},"0",3.0399523040429886,0]
[{"$f":"\"DMD1693\"","v":"DMD1693"},{"$f":"\"GREEN\"","v":"GREEN"},{"$f":"\"Normal Solid\"","v":"Normal Solid"},"DBC MET",{"$f":"\"20000288\"","v":"20000288"},{"$f":"\"7.982\"","v":"7.982"},{"$f":"\"27.38\"","v":"27.38"},{"$f":"\"20.54\"","v":"20.54"},"0",3.4615565568347324,0]
[{"$f":"\"DMD1694\"","v":"DMD1694"},{"$f":"\"MAROON\"","v":"MAROON"},{"$f":"\"Normal Solid\"","v":"Normal Solid"},"DBC MET",{"$f":"\"20000289\"","v":"20000289"},{"$f":"\"7.873\"","v":"7.873"},{"$f":"\"23.09\"","v":"23.09"},{"$f":"\"16.47\"","v":"16.47"},"0",3.2947796494266122,0]
[{"$f":"\"DMD1696\"","v":"DMD1696"},{"$f":"\"COARSE SILVER DOLLAR ALUMINUM\"","v":"COARSE SILVER DOLLAR ALUMINUM"},{"$f":"\"Metallic\"","v":"Metallic"},"DBC MET",{"$f":"\"64000185\"","v":"64000185"},{"$f":"\"7.982\"","v":"7.982"},{"$f":"\"24.47\"","v":"24.47"},{"$f":"\"18.67\"","v":"18.67"},"0",2.903721890800913,0]
[{"$f":"\"DMD1697\"","v":"DMD1697"},{"$f":"\"MAROON\"","v":"MAROON"},{"$f":"\"Normal Solid\"","v":"Normal Solid"},"DBC MET",{"$f":"\"20000290\"","v":"20000290"},{"$f":"\"7.838\"","v":"7.838"},{"$f":"\"23.44\"","v":"23.44"},{"$f":"\"17.92\"","v":"17.92"},"0",2.9443350165271274,0]
[{"$f":"\"DMD1698\"","v":"DMD1698"},{"$f":"\"ALUM.\"","v":"ALUM."},{"$f":"\"Other special effect\"","v":"Other special effect"},"DBC MET",{"$f":"\"20000291\"","v":"20000291"},{"$f":"\"7.951\"","v":"7.951"},{"$f":"\"25.38\"","v":"25.38"},{"$f":"\"17.72\"","v":"17.72"},"0",3.2833729989524745,0]
[{"$f":"\"DMD613\"","v":"DMD613"},{"$f":"\"BLUE\"","v":"BLUE"},{"$f":"\"Normal Solid\"","v":"Normal Solid"},"DBC MET",{"$f":"\"20000295\"","v":"20000295"},{"$f":"\"8.231\"","v":"8.231"},{"$f":"\"49.99\"","v":"49.99"},{"$f":"\"43.39\"","v":"43.39"},"0",1.2083982526822401,0]
[{"$f":"\"DMD614\"","v":"DMD614"},{"$f":"\"BLUE\"","v":"BLUE"},{"$f":"\"Normal Solid\"","v":"Normal Solid"},"DBC MET",{"$f":"\"20000296\"","v":"20000296"},{"$f":"\"8.192\"","v":"8.192"},{"$f":"\"50.52\"","v":"50.52"},{"$f":"\"43.85\"","v":"43.85"},"0",1.2179722916131199,0]
[{"$f":"\"DMD615\"","v":"DMD615"},{"$f":"\"BLUE\"","v":"BLUE"},{"$f":"\"Normal Solid\"","v":"Normal Solid"},"DBC MET",{"$f":"\"20000297\"","v":"20000297"},{"$f":"\"8.179\"","v":"8.179"},{"$f":"\"49.38\"","v":"49.38"},{"$f":"\"42.68\"","v":"42.68"},"0",1.2531218389916796,0]
[{"$f":"\"DMD619\"","v":"DMD619"},{"$f":"\"BLUE SHADE VIOLET\"","v":"BLUE SHADE VIOLET"},{"$f":"\"Normal Solid\"","v":"Normal Solid"},"DBC MET",{"$f":"\"64002125\"","v":"64002125"},{"$f":"\"8.11\"","v":"8.11"},{"$f":"\"47.02\"","v":"47.02"},{"$f":"\"40.61\"","v":"40.61"},{"$f":"\"0.01\"","v":"0.01"},0,0]
[{"$f":"\"DMD622\"","v":"DMD622"},{"$f":"\"RED\"","v":"RED"},{"$f":"\"Normal Solid\"","v":"Normal Solid"},"DBC MET",{"$f":"\"20000303\"","v":"20000303"},{"$f":"\"8.615\"","v":"8.615"},{"$f":"\"52.24\"","v":"52.24"},{"$f":"\"43.03\"","v":"43.03"},{"$f":"\"0\"","v":"0"},1.2505830661331203,0]
[{"$f":"\"DMD641\"","v":"DMD641"},{"$f":"\"YELLOW\"","v":"YELLOW"},{"$f":"\"Normal Solid\"","v":"Normal Solid"},"DBC MET",{"$f":"\"20000322\"","v":"20000322"},{"$f":"\"8.65\"","v":"8.65"},{"$f":"\"52.25\"","v":"52.25"},{"$f":"\"43.07\"","v":"43.07"},"0",1.2325340889912608,0]
[{"$f":"\"DMD642\"","v":"DMD642"},{"$f":"\"YELLOW\"","v":"YELLOW"},"Normal Solid","DBC MET",{"$f":"\"20000323\"","v":"20000323"},{"$f":"\"8.897\"","v":"8.897"},{"$f":"\"55.37\"","v":"55.37"},{"$f":"\"45.01\"","v":"45.01"},"0",1.2079036183820802,0]
[{"$f":"\"DMD646\"","v":"DMD646"},{"$f":"\"WEAK WHITE\"","v":"WEAK WHITE"},"Normal Solid","DBC MET",{"$f":"\"20000327\"","v":"20000327"},{"$f":"\"8.817\"","v":"8.817"},{"$f":"\"53.8\"","v":"53.8"},{"$f":"\"43.99\"","v":"43.99"},"0",1.2358215945838691,0]
[{"$f":"\"DMD648\"","v":"DMD648"},{"$f":"\"WEAK BLACK\"","v":"WEAK BLACK"},"Normal Solid","DBC MET",{"$f":"\"20000329\"","v":"20000329"},{"$f":"\"8.124\"","v":"8.124"},{"$f":"\"49.51\"","v":"49.51"},{"$f":"\"43.2\"","v":"43.2"},"0",1.243578072611929,0]
[{"$f":"\"DMD649\"","v":"DMD649"},{"$f":"\"CLEAR\"","v":"CLEAR"},{"$f":"\"Mixing Clear\"","v":"Mixing Clear"},"DBC MET",{"$f":"\"20000330\"","v":"20000330"},{"$f":"\"8.083\"","v":"8.083"},{"$f":"\"47.36\"","v":"47.36"},{"$f":"\"41.12\"","v":"41.12"},"0",1.2679771999999998,0]
[{"$f":"\"DMD650\"","v":"DMD650"},{"$f":"\"CRS. ALUM.\"","v":"CRS. ALUM."},{"$f":"\"Metallic\"","v":"Metallic"},"DBC MET",{"$f":"\"20000331\"","v":"20000331"},{"$f":"\"9.023\"","v":"9.023"},{"$f":"\"57.94\"","v":"57.94"},{"$f":"\"46.8\"","v":"46.8"},"0",2.1057873314224591,0]
[{"$f":"\"DMD665\"","v":"DMD665"},{"$f":"\"YELLOW LF\"","v":"YELLOW LF"},{"$f":"\"Normal Solid\"","v":"Normal Solid"},"DBC MET",{"$f":"\"20000343\"","v":"20000343"},{"$f":"\"9.096\"","v":"9.096"},{"$f":"\"55.39\"","v":"55.39"},{"$f":"\"44.01\"","v":"44.01"},"0",1.2148443990854401,0]
[{"$f":"\"DMD666\"","v":"DMD666"},{"$f":"\"YELLOW LF\"","v":"YELLOW LF"},"Normal Solid","DBC MET",{"$f":"\"20000344\"","v":"20000344"},{"$f":"\"9.32\"","v":"9.32"},{"$f":"\"58.4\"","v":"58.4"},{"$f":"\"46.53\"","v":"46.53"},"0",1.0299522649308801,0]
[{"$f":"\"DMD691\"","v":"DMD691"},{"$f":"\"BLACK\"","v":"BLACK"},"Normal Solid","DBC MET",{"$f":"\"20000350\"","v":"20000350"},{"$f":"\"8.582\"","v":"8.582"},{"$f":"\"49.55\"","v":"49.55"},{"$f":"\"40.16\"","v":"40.16"},"0",1.3670723524285804,0]
[{"$f":"\"DMX210\"","v":"DMX210"},{"$f":"\"YELLOW\"","v":"YELLOW"},{"$f":"\"Inks/Dye\"","v":"Inks/Dye"},"DBC MET",{"$f":"\"20000467\"","v":"20000467"},{"$f":"\"7.677\"","v":"7.677"},{"$f":"\"18.26\"","v":"18.26"},{"$f":"\"13.8\"","v":"13.8"},"0",2.3955122650399998,0]
[{"$f":"\"DMX211\"","v":"DMX211"},{"$f":"\"ORANGE\"","v":"ORANGE"},"Inks/Dye","DBC MET",{"$f":"\"20000468\"","v":"20000468"},{"$f":"\"7.603\"","v":"7.603"},{"$f":"\"17.77\"","v":"17.77"},{"$f":"\"12.64\"","v":"12.64"},"0",3.22037010284,0]
[{"$f":"\"DMX212\"","v":"DMX212"},{"$f":"\"RED\"","v":"RED"},"Inks/Dye","DBC MET",{"$f":"\"20000469\"","v":"20000469"},{"$f":"\"7.59\"","v":"7.59"},{"$f":"\"17.77\"","v":"17.77"},{"$f":"\"12.78\"","v":"12.78"},"0",0,0]
[{"$f":"\"DMX213\"","v":"DMX213"},{"$f":"\"RED\"","v":"RED"},"Inks/Dye","DBC MET",{"$f":"\"20000470\"","v":"20000470"},{"$f":"\"7.594\"","v":"7.594"},{"$f":"\"15.86\"","v":"15.86"},{"$f":"\"10.73\"","v":"10.73"},"0",0,0]
[{"$f":"\"DMX214\"","v":"DMX214"},{"$f":"\"RED\"","v":"RED"},"Inks/Dye",{"$f":"\"DBC MET\"","v":"DBC MET"},{"$f":"\"20000471\"","v":"20000471"},{"$f":"\"7.424\"","v":"7.424"},{"$f":"\"11.99\"","v":"11.99"},{"$f":"\"8.71\"","v":"8.71"},"0",3.4464362325132001,0]
[{"$f":"\"DMX215\"","v":"DMX215"},{"$f":"\"VIOLET\"","v":"VIOLET"},"Inks/Dye","DBC MET",{"$f":"\"20000472\"","v":"20000472"},{"$f":"\"7.356\"","v":"7.356"},{"$f":"\"6.66\"","v":"6.66"},{"$f":"\"4.06\"","v":"4.06"},"0",3.6083059219999996,0]
[{"$f":"\"DMX216\"","v":"DMX216"},{"$f":"\"BLUE\"","v":"BLUE"},"Inks/Dye","DBC MET",{"$f":"\"20000473\"","v":"20000473"},{"$f":"\"7.472\"","v":"7.472"},{"$f":"\"13.86\"","v":"13.86"},{"$f":"\"10.06\"","v":"10.06"},"0",3.3739075730799999,0]
[{"$f":"\"DMX217\"","v":"DMX217"},{"$f":"\"GREEN\"","v":"GREEN"},"Inks/Dye","DBC MET",{"$f":"\"20000474\"","v":"20000474"},{"$f":"\"7.603\"","v":"7.603"},{"$f":"\"17.77\"","v":"17.77"},{"$f":"\"12.64\"","v":"12.64"},"0",3.4350910884000001,0]
[{"$f":"\"DMX218\"","v":"DMX218"},{"$f":"\"BROWN\"","v":"BROWN"},"Inks/Dye","DBC MET",{"$f":"\"20000475\"","v":"20000475"},{"$f":"\"7.008\"","v":"7.008"},{"$f":"\"8.34\"","v":"8.34"},{"$f":"\"10.24\"","v":"10.24"},"0",1.7944686161558001,0]
[{"$f":"\"DMX219\"","v":"DMX219"},{"$f":"\"BLACK\"","v":"BLACK"},"Inks/Dye","DBC MET",{"$f":"\"20000476\"","v":"20000476"},{"$f":"\"7.374\"","v":"7.374"},{"$f":"\"8.34\"","v":"8.34"},{"$f":"\"5.57\"","v":"5.57"},"0",3.589625871722661,0]
[{"$f":"\"DMX220\"","v":"DMX220"},{"$f":"\"BLUE\"","v":"BLUE"},"Inks/Dye","DBC MET",{"$f":"\"20000477\"","v":"20000477"},{"$f":"\"7.562\"","v":"7.562"},{"$f":"\"13.87\"","v":"13.87"},{"$f":"\"9.09\"","v":"9.09"},{"$f":"\"0.07\"","v":"0.07"},2.5540027152400002,0]
[{"$f":"\"DX685\"","v":"DX685"},{"$f":"\"FLATTING\"","v":"FLATTING"},{"$f":"\"Matting Base/Flattener\"","v":"Matting Base/Flattener"},"DBC MET",{"$f":"\"20000494\"","v":"20000494"},{"$f":"\"8.203\"","v":"8.203"},{"$f":"\"20.53\"","v":"20.53"},{"$f":"\"12.93\"","v":"12.93"},{"$f":"\"0\"","v":"0"},2.0637194291750003,0]
[{"$f":"\"DX78\"","v":"DX78"},{"$f":"\"PRIZM\"","v":"PRIZM"},{"$f":"\"Pearlescent\"","v":"Pearlescent"},"DBC MET",{"$f":"\"20000495\"","v":"20000495"},{"$f":"\"9.779\"","v":"9.779"},{"$f":"\"84.99\"","v":"84.99"},{"$f":"\"76.8\"","v":"76.8"},"0",0.16200000000000001,0]
[{"$f":"\"DX821\"","v":"DX821"},{"$f":"\"FLOP ADJUSTER\"","v":"FLOP ADJUSTER"},{"$f":"\"Flop Adjuster/Tone controller\"","v":"Flop Adjuster/Tone controller"},"DBC MET",{"$f":"\"64001009\"","v":"64001009"},{"$f":"\"9.085\"","v":"9.085"},{"$f":"\"49.52\"","v":"49.52"},{"$f":"\"33\"","v":"33"},"0",3.0415341531999998,0]
[{"$f":"\"DX995\"","v":"DX995"},{"$f":"\"MATT BASE\"","v":"MATT BASE"},{"$f":"\"Matting Base/Flattener\"","v":"Matting Base/Flattener"},"DBC MET",{"$f":"\"20000497\"","v":"20000497"},{"$f":"\"8.061\"","v":"8.061"},{"$f":"\"25.37\"","v":"25.37"},{"$f":"\"16.99\"","v":"16.99"},"0",2.6339305071692198,0]
[{"$f":"\"FACTORY PACK\"","v":"FACTORY PACK"},{"$f":"\"FACTORY PACK ONLY\"","v":"FACTORY PACK ONLY"},{"$f":"\"Factory Pack\"","v":"Factory Pack"},"DBC MET",{"$f":"\"64003247\"","v":"64003247"},{"$f":"\"1\"","v":"1"},{"$f":"\"0\"","v":"0"},{"$f":"\"0\"","v":"0"},"0",0,0]
[{"$f":"\"PRL80\"","v":"PRL80"},{"$f":"\"RED GREEN PEARL\"","v":"RED GREEN PEARL"},{"$f":"\"Pearlescent\"","v":"Pearlescent"},"DBC MET",{"$f":"\"64002442\"","v":"64002442"},{"$f":"\"21.648\"","v":"21.648"},{"$f":"\"90\"","v":"90"},{"$f":"\"65.74\"","v":"65.74"},"0",0.10800000000000001,0]
[{"$f":"\"PRL87\"","v":"PRL87"},{"$f":"\"BLUE PEARL\"","v":"BLUE PEARL"},"Pearlescent","DBC MET",{"$f":"\"20000797\"","v":"20000797"},{"$f":"\"19.997\"","v":"19.997"},"90",{"$f":"\"68.37\"","v":"68.37"},"0",0.10800000000000001,0]
[{"$f":"\"PRL88\"","v":"PRL88"},{"$f":"\"ORANGE PRL\"","v":"ORANGE PRL"},"Pearlescent","DBC MET",{"$f":"\"20000798\"","v":"20000798"},{"$f":"\"20.607\"","v":"20.607"},"90",{"$f":"\"67.4\"","v":"67.4"},"0",0.20520000000000002,0]
[{"$f":"\"PRL89\"","v":"PRL89"},{"$f":"\"VIOLET PRL\"","v":"VIOLET PRL"},"Pearlescent","DBC MET",{"$f":"\"20000799\"","v":"20000799"},{"$f":"\"20.607\"","v":"20.607"},"90",{"$f":"\"67.4\"","v":"67.4"},"0",0.21600000000000003,0]
[{"$f":"\"PRL90\"","v":"PRL90"},{"$f":"\"RED PEARL\"","v":"RED PEARL"},"Pearlescent","DBC MET",{"$f":"\"20000800\"","v":"20000800"},{"$f":"\"21.596\"","v":"21.596"},"90",{"$f":"\"67.4\"","v":"67.4"},"0",0.15120000000000003,0]
[{"$f":"\"PRL91\"","v":"PRL91"},{"$f":"\"GREENPEARL\"","v":"GREENPEARL"},"Pearlescent","DBC MET",{"$f":"\"20000801\"","v":"20000801"},{"$f":"\"21.596\"","v":"21.596"},"90",{"$f":"\"66.76\"","v":"66.76"},"0",0.21600000000000003,0]
[{"$f":"\"PRL92\"","v":"PRL92"},{"$f":"\"BLUE PEARL\"","v":"BLUE PEARL"},"Pearlescent","DBC MET",{"$f":"\"20000802\"","v":"20000802"},{"$f":"\"19.737\"","v":"19.737"},"90",{"$f":"\"68.78\"","v":"68.78"},"0",0.21600000000000003,0]
[{"$f":"\"PRL93\"","v":"PRL93"},{"$f":"\"GOLD PEARL\"","v":"GOLD PEARL"},"Pearlescent","DBC MET",{"$f":"\"20000803\"","v":"20000803"},{"$f":"\"21.587\"","v":"21.587"},"90",{"$f":"\"65.85\"","v":"65.85"},"0",0.21600000000000003,0]
[{"$f":"\"PRL95\"","v":"PRL95"},{"$f":"\"WHITEPEARL\"","v":"WHITEPEARL"},"Pearlescent","DBC MET",{"$f":"\"20000805\"","v":"20000805"},{"$f":"\"21.587\"","v":"21.587"},"90",{"$f":"\"65.85\"","v":"65.85"},"0",0.21600000000000003,0]
[{"$f":"\"PRL96\"","v":"PRL96"},{"$f":"\"RUSSET PRL\"","v":"RUSSET PRL"},"Pearlescent","DBC MET",{"$f":"\"20000806\"","v":"20000806"},{"$f":"\"21.587\"","v":"21.587"},"90",{"$f":"\"65.85\"","v":"65.85"},"0",0.21600000000000003,0]
[{"$f":"\"PRL97\"","v":"PRL97"},{"$f":"\"COPPER PRL\"","v":"COPPER PRL"},"Pearlescent","DBC MET",{"$f":"\"20000807\"","v":"20000807"},{"$f":"\"21.587\"","v":"21.587"},"90",{"$f":"\"62.48\"","v":"62.48"},"0",0.21600000000000003,0]
[{"$f":"\"PRL98\"","v":"PRL98"},{"$f":"\"WHITEPEARL\"","v":"WHITEPEARL"},"Pearlescent","DBC MET",{"$f":"\"20000808\"","v":"20000808"},{"$f":"\"17.916\"","v":"17.916"},"90",{"$f":"\"71.66\"","v":"71.66"},"0",0.21600000000000003,0]
[{"$f":"\"PRL99\"","v":"PRL99"},{"$f":"\"RED PEARL\"","v":"RED PEARL"},"Pearlescent","DBC MET",{"$f":"\"20000809\"","v":"20000809"},{"$f":"\"23.278\"","v":"23.278"},"90",{"$f":"\"53.87\"","v":"53.87"},"0",0.10800000000000001,0]
[{"$f":"\"PRLX1\"","v":"PRLX1"},{"$f":"\"CRYSTAL RED PEARL\"","v":"CRYSTAL RED PEARL"},{"$f":"\"Xirallic\"","v":"Xirallic"},"DBC MET",{"$f":"\"62000021\"","v":"62000021"},{"$f":"\"24.157\"","v":"24.157"},"90",{"$f":"\"62.5\"","v":"62.5"},"0",0.21600000000000003,0]
[{"$f":"\"PRLX2\"","v":"PRLX2"},{"$f":"\"CRYSTAL SILVER PEARL\"","v":"CRYSTAL SILVER PEARL"},"Xirallic","DBC MET",{"$f":"\"62000022\"","v":"62000022"},{"$f":"\"23\"","v":"23"},"90",{"$f":"\"65.18\"","v":"65.18"},"0",0.21600000000000003,0]
[{"$f":"\"PRLX3\"","v":"PRLX3"},{"$f":"\"CRYSTAL GOLD PEARL\"","v":"CRYSTAL GOLD PEARL"},"Xirallic","DBC MET",{"$f":"\"62000023\"","v":"62000023"},{"$f":"\"22.95\"","v":"22.95"},"90",{"$f":"\"63.69\"","v":"63.69"},"0",0.21600000000000003,0]
[{"$f":"\"PRLX4\"","v":"PRLX4"},{"$f":"\"CRYSTAL BLUE PEARL\"","v":"CRYSTAL BLUE PEARL"},"Xirallic","DBC MET",{"$f":"\"64000038\"","v":"64000038"},{"$f":"\"22.65\"","v":"22.65"},"90",{"$f":"\"64.16\"","v":"64.16"},"0",0.21600000000000003,0]
[{"$f":"\"PRLX5\"","v":"PRLX5"},{"$f":"\"GREEN\"","v":"GREEN"},"Xirallic","DBC MET",{"$f":"\"64000102\"","v":"64000102"},{"$f":"\"23.4\"","v":"23.4"},"90",{"$f":"\"62.97\"","v":"62.97"},"0",0.10800000000000001,0]
[{"$f":"\"PRLX6\"","v":"PRLX6"},{"$f":"\"FROST RED\"","v":"FROST RED"},"Xirallic","DBC MET",{"$f":"\"64000100\"","v":"64000100"},{"$f":"\"23.15\"","v":"23.15"},"90",{"$f":"\"63.37\"","v":"63.37"},"0",0.21600000000000003,0]
[{"$f":"\"PRLX7\"","v":"PRLX7"},{"$f":"\"COPPER \"","v":"COPPER "},"Xirallic","DBC MET",{"$f":"\"64000101\"","v":"64000101"},{"$f":"\"24.157\"","v":"24.157"},"90",{"$f":"\"62.5\"","v":"62.5"},"0",0.21600000000000003,0]
[{"$f":"\"PRLX8\"","v":"PRLX8"},{"$f":"\"COSMIC TURQUOISE\"","v":"COSMIC TURQUOISE"},"Xirallic","DBC MET",{"$f":"\"64000775\"","v":"64000775"},{"$f":"\"21.825\"","v":"21.825"},"90",{"$f":"\"65.47\"","v":"65.47"},"0",0.21600000000000003,0]
[{"$f":"\"PRLX9\"","v":"PRLX9"},{"$f":"\"AMETHYST DREAM\"","v":"AMETHYST DREAM"},"Xirallic","DBC MET",{"$f":"\"64000776\"","v":"64000776"},{"$f":"\"22.533\"","v":"22.533"},"90",{"$f":"\"90\"","v":"90"},"0",0.10800000000000001,0]
[{"$f":"\"VM4141\"","v":"VM4141"},{"$f":"\"FLAMBOYANCE WHITE\"","v":"FLAMBOYANCE WHITE"},{"$f":"\"Other special effect\"","v":"Other special effect"},"DBC MET",{"$f":"\"64000748\"","v":"64000748"},{"$f":"\"21.364\"","v":"21.364"},{"$f":"\"100\"","v":"100"},"100","0",0,0]
[{"$f":"\"VM4142\"","v":"VM4142"},{"$f":"\"FLAMBOYANCE GOLD\"","v":"FLAMBOYANCE GOLD"},"Other special effect","DBC MET",{"$f":"\"64000749\"","v":"64000749"},{"$f":"\"21.364\"","v":"21.364"},"100","100","0",0,0]
[{"$f":"\"VM4143\"","v":"VM4143"},{"$f":"\"FLAMBOYANCE RED\"","v":"FLAMBOYANCE RED"},"Other special effect","DBC MET",{"$f":"\"64000750\"","v":"64000750"},{"$f":"\"21.364\"","v":"21.364"},"100","100","0",0,0]
[{"$f":"\"VM4144\"","v":"VM4144"},{"$f":"\"FLAMBOYANCE VIOLET\"","v":"FLAMBOYANCE VIOLET"},"Other special effect","DBC MET",{"$f":"\"64000751\"","v":"64000751"},{"$f":"\"21.364\"","v":"21.364"},"100","100","0",0,0]
[{"$f":"\"VM4145\"","v":"VM4145"},{"$f":"\"FLAMBOYANCE BLUE\"","v":"FLAMBOYANCE BLUE"},"Other special effect","DBC MET",{"$f":"\"64000752\"","v":"64000752"},{"$f":"\"21.325\"","v":"21.325"},"100","100","0",0,0]
[{"$f":"\"VM4146\"","v":"VM4146"},{"$f":"\"FLAMBOYANCE GREEN\"","v":"FLAMBOYANCE GREEN"},"Other special effect","DBC MET",{"$f":"\"64000753\"","v":"64000753"},{"$f":"\"21.325\"","v":"21.325"},"100","100","0",0,0]
[{"$f":"\"VM4162\"","v":"VM4162"},{"$f":"\"VIOLA FANTASY\"","v":"VIOLA FANTASY"},{"$f":"\"Pearlescent\"","v":"Pearlescent"},"DBC MET",{"$f":"\"64000771\"","v":"64000771"},{"$f":"\"17.91\"","v":"17.91"},{"$f":"\"90\"","v":"90"},{"$f":"\"71.66\"","v":"71.66"},"0",0.21600000000000003,0]
[{"$f":"\"VM4163\"","v":"VM4163"},{"$f":"\"AUTUMN MYSTERY\"","v":"AUTUMN MYSTERY"},{"$f":"\"Pearlescent\"","v":"Pearlescent"},"DBC MET",{"$f":"\"64000772\"","v":"64000772"},{"$f":"\"15.369\"","v":"15.369"},{"$f":"\"90\"","v":"90"},{"$f":"\"75.68\"","v":"75.68"},"0",0.21600000000000003,0]
[{"$f":"\"VM4164\"","v":"VM4164"},{"$f":"\"ARCTIC FIRE\"","v":"ARCTIC FIRE"},{"$f":"\"Pearlescent\"","v":"Pearlescent"},"DBC MET",{"$f":"\"64000773\"","v":"64000773"},{"$f":"\"19.194\"","v":"19.194"},{"$f":"\"91\"","v":"91"},{"$f":"\"72.75\"","v":"72.75"},"0",0.23760000000000001,0]
[{"$f":"\"VM4165\"","v":"VM4165"},{"$f":"\"TROPIC SUNRISE\"","v":"TROPIC SUNRISE"},{"$f":"\"Pearlescent\"","v":"Pearlescent"},"DBC MET",{"$f":"\"64000774\"","v":"64000774"},{"$f":"\"19.779\"","v":"19.779"},{"$f":"\"90\"","v":"90"},{"$f":"\"68.71\"","v":"68.71"},"0",0.10800000000000001,0]
[{"$f":"\"VM4166\"","v":"VM4166"},{"$f":"\"LAPIS SUNLIGHT\"","v":"LAPIS SUNLIGHT"},{"$f":"\"Other special effect\"","v":"Other special effect"},"DBC MET",{"$f":"\"64001441\"","v":"64001441"},{"$f":"\"8.029\"","v":"8.029"},{"$f":"\"28.16\"","v":"28.16"},{"$f":"\"20.71\"","v":"20.71"},{"$f":"\"0.03\"","v":"0.03"},2.5955653945890949,0]
[{"$f":"\"VM4205\"","v":"VM4205"},{"$f":"\"STAR FIRE\"","v":"STAR FIRE"},{"$f":"\"Metallic\"","v":"Metallic"},"DBC MET",{"$f":"\"64000088\"","v":"64000088"},{"$f":"\"7.901\"","v":"7.901"},{"$f":"\"23.34\"","v":"23.34"},{"$f":"\"19.46\"","v":"19.46"},{"$f":"\"0\"","v":"0"},3.2456696045119213,0]
[{"$f":"\"VM4206\"","v":"VM4206"},{"$f":"\"STARFIRE RED\"","v":"STARFIRE RED"},{"$f":"\"Metallic\"","v":"Metallic"},"DBC MET",{"$f":"\"64001074\"","v":"64001074"},{"$f":"\"8.012\"","v":"8.012"},{"$f":"\"24.49\"","v":"24.49"},{"$f":"\"17.26\"","v":"17.26"},"0",1.6069513394768895,0]
[{"$f":"\"VM4207\"","v":"VM4207"},{"$f":"\"STARFIRE BLUE\"","v":"STARFIRE BLUE"},{"$f":"\"Other special effect\"","v":"Other special effect"},"DBC MET",{"$f":"\"64001242\"","v":"64001242"},{"$f":"\"7.819\"","v":"7.819"},{"$f":"\"23.1\"","v":"23.1"},{"$f":"\"18.79\"","v":"18.79"},"0",0,0]
[{"$f":"\"VM4210\"","v":"VM4210"},{"$f":"\"STARFIRE GREEN II\"","v":"STARFIRE GREEN II"},{"$f":"\"Other special effect\"","v":"Other special effect"},"DBC MET",{"$f":"\"64003061\"","v":"64003061"},{"$f":"\"7.814\"","v":"7.814"},{"$f":"\"22.86\"","v":"22.86"},{"$f":"\"17.06\"","v":"17.06"},"0",3.4528042045136096,0]
[{"$f":"\"VM4211\"","v":"VM4211"},{"$f":"\"STARFIRE WHITE\"","v":"STARFIRE WHITE"},{"$f":"\"Other special effect\"","v":"Other special effect"},"DBC MET",{"$f":"\"64001252\"","v":"64001252"},{"$f":"\"7.877\"","v":"7.877"},{"$f":"\"22.5\"","v":"22.5"},{"$f":"\"16.9\"","v":"16.9"},"0",1.7203408976501995,0]
[{"$f":"\"VM4212\"","v":"VM4212"},{"$f":"\"STARFIRE YELLOW II\"","v":"STARFIRE YELLOW II"},{"$f":"\"Metallic\"","v":"Metallic"},"DBC MET",{"$f":"\"64003078\"","v":"64003078"},{"$f":"\"7.811\"","v":"7.811"},{"$f":"\"22.79\"","v":"22.79"},{"$f":"\"17.01\"","v":"17.01"},"0",1.7056873024730661,0]
[{"$f":"\"VM4370\"","v":"VM4370"},{"$f":"\"SUPER FINE LIQUID METAL\"","v":"SUPER FINE LIQUID METAL"},{"$f":"\"Other special effect\"","v":"Other special effect"},"DBC MET",{"$f":"\"64001686\"","v":"64001686"},{"$f":"\"7.512\"","v":"7.512"},{"$f":"\"4.95\"","v":"4.95"},{"$f":"\"4.13\"","v":"4.13"},"0",2.6782507644499995,0]
[{"$f":"\"VM4380\"","v":"VM4380"},{"$f":"\"PRISM SILVER\"","v":"PRISM SILVER"},"Other special effect","DBC MET",{"$f":"\"64001556\"","v":"64001556"},{"$f":"\"8.061\"","v":"8.061"},{"$f":"\"28.16\"","v":"28.16"},{"$f":"\"20.4\"","v":"20.4"},"0",1.4470365789912158,0]
[{"$f":"\"VM4381\"","v":"VM4381"},{"$f":"\"SPARKLE SILVER\"","v":"SPARKLE SILVER"},"Other special effect","DBC MET",{"$f":"\"64002107\"","v":"64002107"},{"$f":"\"7.997\"","v":"7.997"},{"$f":"\"24.77\"","v":"24.77"},{"$f":"\"17.66\"","v":"17.66"},"0",3.2091751855846296,0]
[{"$f":"\"VM4420\"","v":"VM4420"},{"$f":"\"MINI GOLD FLAKE\"","v":"MINI GOLD FLAKE"},"Other special effect","DBC MET",{"$f":"\"64001950\"","v":"64001950"},{"$f":"\"11.684\"","v":"11.684"},{"$f":"\"100\"","v":"100"},"100","0",0,0]
[{"$f":"\"VM4421\"","v":"VM4421"},{"$f":"\"MINI SILVER FLAKE\"","v":"MINI SILVER FLAKE"},"Other special effect","DBC MET",{"$f":"\"64001951\"","v":"64001951"},"11.684","100","100","0",0,0]
[{"$f":"\"VM4422\"","v":"VM4422"},{"$f":"\"BIG RED FLAKE\"","v":"BIG RED FLAKE"},"Other special effect","DBC MET",{"$f":"\"64001995\"","v":"64001995"},"11.684","100","100","0",0,0]
[{"$f":"\"VM4423\"","v":"VM4423"},{"$f":"\"BIG ORANGE FLAKE\"","v":"BIG ORANGE FLAKE"},"Other special effect","DBC MET",{"$f":"\"64001996\"","v":"64001996"},"11.684","100","100","0",0,0]
[{"$f":"\"VM4424\"","v":"VM4424"},{"$f":"\"BIG BLUE FLAKE\"","v":"BIG BLUE FLAKE"},"Other special effect","DBC MET",{"$f":"\"64001998\"","v":"64001998"},"11.684","100","100","0",0,0]
[{"$f":"\"VM4425\"","v":"VM4425"},{"$f":"\"BIG PURPLE FLAKE\"","v":"BIG PURPLE FLAKE"},"Other special effect","DBC MET",{"$f":"\"64001999\"","v":"64001999"},"11.684","100","100","0",0,0]
[{"$f":"\"VM4426\"","v":"VM4426"},{"$f":"\"BIG GREEN FLAKE\"","v":"BIG GREEN FLAKE"},"Other special effect","DBC MET",{"$f":"\"64002000\"","v":"64002000"},"11.684","100","100","0",0,0]
[{"$f":"\"VM4502\"","v":"VM4502"},{"$f":"\"SAPPHIRE\"","v":"SAPPHIRE"},"Other special effect","DBC MET",{"$f":"\"64002008\"","v":"64002008"},{"$f":"\"22.95\"","v":"22.95"},"100","100","0",0,0]
[{"$f":"\"VM4503\"","v":"VM4503"},{"$f":"\"JADE\"","v":"JADE"},"Other special effect","DBC MET",{"$f":"\"64002009\"","v":"64002009"},{"$f":"\"22.95\"","v":"22.95"},"100","100","0",0,0]
[{"$f":"\"VM4504\"","v":"VM4504"},{"$f":"\"GARNET\"","v":"GARNET"},"Other special effect","DBC MET",{"$f":"\"64002010\"","v":"64002010"},{"$f":"\"22.95\"","v":"22.95"},"100","100","0",0,0]
[{"$f":"\"VM4505\"","v":"VM4505"},{"$f":"\"TOPAZ\"","v":"TOPAZ"},"Other special effect",{"$f":"\"DBC MET\"","v":"DBC MET"},{"$f":"\"64002011\"","v":"64002011"},{"$f":"\"22.95\"","v":"22.95"},"100","100","0",0,0]
[{"$f":"\"VM4506\"","v":"VM4506"},{"$f":"\"OPAL\"","v":"OPAL"},"Other special effect","DBC MET",{"$f":"\"64002012\"","v":"64002012"},{"$f":"\"22.533\"","v":"22.533"},"100","100","0",0,0]
[{"$f":"\"VM4987\"","v":"VM4987"},{"$f":"\"CYAN/PURPL\"","v":"CYAN/PURPL"},{"$f":"\"Metallic\"","v":"Metallic"},"DBC MET",{"$f":"\"20000184\"","v":"20000184"},{"$f":"\"8.071\"","v":"8.071"},{"$f":"\"28.25\"","v":"28.25"},{"$f":"\"20.38\"","v":"20.38"},"0",2.4992905792011806,0]
[{"$f":"\"VM4988\"","v":"VM4988"},{"$f":"\"SILV/GREEN\"","v":"SILV/GREEN"},"Metallic","DBC MET",{"$f":"\"20000185\"","v":"20000185"},"8.071","28.25","20.38","0",2.4985109200834632,0]
[{"$f":"\"VM4989\"","v":"VM4989"},{"$f":"\"GRN/PURPLE\"","v":"GRN/PURPLE"},"Metallic","DBC MET",{"$f":"\"20000186\"","v":"20000186"},"8.071","28.25","20.38","0",2.4998835675611093,0]
[{"$f":"\"VM4990\"","v":"VM4990"},{"$f":"\"BLUE/RED\"","v":"BLUE/RED"},"Metallic","DBC MET",{"$f":"\"20000187\"","v":"20000187"},"8.071","28.25","20.38","0",2.499254153455694,0]
[{"$f":"\"VM4991\"","v":"VM4991"},{"$f":"\"MAGEN/GOLD\"","v":"MAGEN/GOLD"},"Metallic","DBC MET",{"$f":"\"20000188\"","v":"20000188"},"8.071","28.25","20.38","0",2.499254153455694,0]
[{"$f":"\"VM4994\"","v":"VM4994"},{"$f":"\"GOLD/SILVER\"","v":"GOLD/SILVER"},"Metallic","DBC MET",{"$f":"\"20000988\"","v":"20000988"},"8.071","28.25","20.38","0",1.2493089184417314,0]
[{"$f":"\"VM4995\"","v":"VM4995"},{"$f":"\"RED TO GOLD\"","v":"RED TO GOLD"},{"$f":"\"Pearlescent\"","v":"Pearlescent"},"DBC MET",{"$f":"\"64001065\"","v":"64001065"},{"$f":"\"8.078\"","v":"8.078"},{"$f":"\"28.18\"","v":"28.18"},"20.38","0",2.4998835675611093,0]
["M104","RED","Normal Solid","MBP","20000647","7.989","43.3","36.89","0",7.1497965579455034,0]
["M105","HIGH STRENGTH RED","High Strength","MBP","64001520","8.3","46.36","38.73","0",2.2488652751859197,0]
["M106","RED OXIDE","Normal Solid","MBP","20000648","8.109","44.23","36.04","0",5.9877709988511221,0]
["M109","FINE RUSSET PEARL","Pearlescent","MBP","64000344","23.27","90","53.87","0",0.10800000000000001,0]
["M110","VIOLET PEARL","Pearlescent","MBP","64000345","20.6","90","67.4","0",0.10800000000000001,0]
["M111","YELLOW","Normal Solid","MBP","20000651","8.295","45.75","38.27","0",6.9177759606376013,0]
["M112NF","GOLD","Normal Solid","MBP","64000093","7.963","44.11","38.37","0",3.9163773478748176,0]
["M115","YELLOW","Normal Solid","MBP","20000655","8.441","46.6","36.76","0",5.9475026177172063,0]
["M116NF","YELLOW","Normal Solid","MBP","64000094","7.948","43.68","37.96","0",3.9459357316472707,0]
["M117","JET BLACK","Normal Solid","MBP","20000657","7.904","43.51","37.37","0",7.2025010528082865,1]
["M118","BLACK","Normal Solid","MBP","20000658","7.762","41.71","34.96","0",6.1049915068906602,0]
["M119","WHITE","Normal Solid","MBP","20000659","12.922","67.69","41.14","0",3.4388624131366399,0]
["M120","WHITE","Normal Solid","MBP","20000660","8.894","52.69","41.07","0",5.7698470542307279,0]
["M121","BLUE","Normal Solid","MBP","20000661","7.916","43.95","37.66","0",6.323552009198079,0]
["M122","BLUE","Normal Solid","MBP","20000662","7.923","43.38","37.17","0",6.9369658419507196,0]
["M123","BLUE","Normal Solid","MBP","20000663","7.834","43.06","37.09","0",0,0]
["M125","MED. ALUM.","Metallic","MBP","20000665","8.211","48.6","40.71","0",0,0]
["M126","CRS. ALUM.","Metallic","MBP","20000666","8.259","49.49","41.25","0",5.7077158952900984,0]
["M127","MED BRT ALUM.","Metallic","MBP","20000667","8.271","48.1","39.37","0",5.5486366095950741,0]
["M128","GREEN","Normal Solid","MBP","20000668","7.915","43.54","37.23","0",0,0]
["M132","MED.MAROON","Normal Solid","MBP","20000672","7.974","44.37","37.68","0",6.5052998163575735,0]
["M135","FINE ALUM.","Metallic","MBP","20000675","8.164","48.54","40.99","0",5.8829745474897832,0]
["M141","RED PEARL","Pearlescent","MBP","20000676","21.596","90","67.4","0",0.10800000000000001,0]
["M142","WHITE PRL","Pearlescent","MBP","20000677","21.587","90","65.85","0",0.10800000000000001,0]
["M143","BLUE PEARL","Pearlescent","MBP","20000678","19.737","90","68.78","0",0.10800000000000001,0]
["M144","GREEN PRL","Pearlescent","MBP","20000679","21.596","90","66.77","0",0.10800000000000001,0]
["M145","RUSSET PRL","Pearlescent","MBP","20000680","21.587","90","65.85","0",0.10800000000000001,0]
["M146","COPPER PRL","Pearlescent","MBP","20000681","21.587","90","71.66","0",0.10800000000000001,0]
["M147","GOLD PRL","Pearlescent","MBP","20000682","21.587","90","65.85","0",0.10800000000000001,0]
["M153","RS YELL LF","Normal Solid","MBP","20000688","8.753","53.47","42.99","0",2.9934172759803253,0]
["M154","LF ORANGE","Normal Solid","MBP","20000689","8.16","47.76","40.77","0",3.5005142288425115,0]
["M157","COARSE SILVER DOLLAR ALUMINIUM","Metallic","MBP","64001434","8.25","50.15","43.23","0",2.8476376072955549,0]
["M158","MICRONIZED WHITE","Flop Adjuster/Tone controller","MBP","64000458","8.51","44.55","33.82","0",3.3851458751724799,0]
["M159","ORANGE","Normal Solid","MBP","64003415","7.986","43.68","37.81","0",3.8943960831523206,0]
["M551","SILVER DIAMONDS","Other special effect","MBP","64001524","8.309","50","41.42","0",2.7485146114784005,0]
["M552","GOLD DIAMONDS","Other special effect","MBP","64001525","8.293","49.92","41.44","0",2.7530937259216,0]
["M553","RUSSET DIAMONDS","Other special effect","MBP","64001526","8.321","50.04","41.39","0",2.7461896648768005,0]
["M554","BLUE DIAMONDS","Other special effect","MBP","64001527","8.293","49.92","41.44","0",2.7531334550880002,0]
["M555","RED DIAMONDS","Other special effect","MBP","64001528","8.293","49.92","41.44","0",2.7530701330015992,0]
["M556","GREEN DIAMONDS","Other special effect","MBP","64001688","8.293","49.92","41.44","0",2.7531570480080005,0]
["M557","COPPER DIAMONDS","Other special effect","MBP","64001628","8.3","49.92","41.39","0",2.7532520311376003,0]
["M558","VIOLET DIAMONDS","Other special effect","MBP","64003017","8.287","49.92","41.49","0",2.7531570480080005,0]
["M561","FINE WHITE MICA","Pearlescent","MBP","64001961","8.31","49.91","41.32","0",2.8244111049678677,0]
["M569","HIGH STRENGTH RED","Normal Solid","MBP","64003403","8.782","55.14","45.59","0",0,0]
["M570","FINE BLUE PEARL","Pearlescent","MBP","64003020","8.301","49.92","41.39","0",2.7531334550880002,0]
["M571","VIOLET","Normal Solid","MBP","64000271","8.034","40.33","33.41","0",3.0611529667932804,0]
["M572","DEEP VIOLET","Normal Solid","MBP","64000272","7.973","44.23","38.65","0",3.0030928021676795,0]
["M573","MAROON","Normal Solid","MBP","64000273","8.223","48.25","41.01","0",3.5828242573243196,0]
["M575","GS BLUE ","Normal Solid","MBP","64000275","7.853","35.53","28.8","0",3.47665671064384,0]
["M576","MAGENTA","Normal Solid","MBP","64000276","7.89","35.6","28.89","0",3.2848548315903998,0]
["M577","TRANS RED OXIDE","Normal Solid","MBP","64000277","9.105","47.29","33.13","0",2.79305327527296,0]
["M578","YS GREEN","Normal Solid","MBP","64000278","8.362","49.81","42.06","0",2.6743759099857596,0]
["M579","VIOLET BLUE","Normal Solid","MBP","64003255","7.861","44.02","37.92","0",0,0]
["M581","INORGANIC YELLOW","Normal Solid","MBP","64000280","10.565","56.52","36.8","0",2.0167142890569596,0]
["M582","RED","Normal Solid","MBP","64000281","7.943","42.05","36.2","0",3.3237896409556797,0]
["M583","BLUE ALUMINUM","Metallic","MBP","64003023","8.119","47.9","39.68","0",0,0]
["M589","DEEP BASECOAT BLACK","Normal Solid","MBP","64001442","7.45","23.18","17.76","0",1.6879381145132801,0]
["M590","FLATTENING BASE","Matting Base/Flattener","MBP","64001437","10.24","20","19.43","0",0.22346081594400002,0]
["M591","FINE SATIN ALUMINUM","Metallic","MBP","64000282","8.263","49.73","41.46","0",2.8440792169030802,0]
["M592","FINE BRIGHT ALUM","Metallic","MBP","64000283","8.217","48.65","40.45","0",5.8388080173216057,0]
["M593","VERY FINE ALUMINUM","Metallic","MBP","64002431","8.274","48.45","39.75","0",2.9347656969084879,0]
["M594","VERY COARSE ALUM","Metallic","MBP","64000284","8.274","49.52","41.1","0",2.8576702974089683,0]
["M596","MEDIUM GOLD ALUMINUM","Metallic","MBP","64001952","8.419","50.2","40.18","0",2.6902697008269505,0]
["M597","MEDIUM ORANGE ALUMINUM","Metallic","MBP","64001955","8.436","50.29","40.14","0",2.6776236634507296,0]
["M598","CLEAR","Mixing Clear","MBP","64000174","7.887","44.37","38.87","0",3.6499505338873597,0]
["M599","CLEAR","Base Maker","MBP","64000171","7.49","14.62","10.52","0",1.7387579286600001,"Fill Wgt Grams","Fill Wt Oz","Size Can"]
["15993","Color Coat - Universal Color Coat",null,null,"646786159930",5.4423000000000004,null,null,null,0.45100000000000001,154,{"$f":"+K210/28.35","v":5.4320987654320989},"16 oz aerosol can"]
["61003","Multi-Coat Aerosol Blank",null,null,"646786610035",5.8010000000000002,null,null,null,0.505,240,{"$f":"+K211/28.35","v":8.4656084656084651},"16 oz aerosol can"]
["61993","Custom Fill Aerosol Blank",null,null,"646786619939",5.8010000000000002,null,null,null,0.505,238,{"$f":"+K212/28.35","v":8.3950617283950617},"16 oz aerosol can"]
["62003","Custom Fill Waterborne Aerosol Blank",null,null,"646786620034",5.8276000000000003,null,null,null,0.64500000000000002,200,{"$f":"+K213/28.35","v":7.0546737213403876},"16 oz aerosol can"]
["62013","Custom Fill+ High Build Aerosol Blank",null,null,"646786620133",5.4423000000000004,null,null,null,0.45100000000000001,110,{"$f":"+K214/28.35","v":3.8800705467372132},"16 oz aerosol can"]
["DT860","Reducer","Deltron",null,null,6.59,null,null,null,1.4]
["DT870","Reducer","Deltron",null,null,6.93,null,null,null,2.1]
["DT885","Reducer","Deltron",null,null,6.93,null,null,null,2.6]
["DT895","Reducer","Deltron",null,null,7.01,null,null,null,3.3]
["DT898","Reducer","Deltron",null,null,7.01,null,null,null,1.8]
["MR185","Reducer","Omni",null,null,6.59,null,null,null,1.88]
["MR186","Reducer","Omni",null,null,6.84,null,null,null,3.52]
["MR187","Reducer","Omni",null,null,6.84,null,null,null,2.72]
["MR188","Reducer","Omni",null,null,6.84,null,null,null,2.19]
["A108","PROPANE 108- LOT#",null,null,null,4.2319000000000004,null,null,null,0.46]
["DME","DIMETHYL ETHER",null,null,null,5.5006000000000004,null,null,null,0.76]
["NP70","Propane / Butane Blend",null,null,null,4.5248999999999997,null,null,null,0.77]
["ACETONE","Acetone",null,null,null,6.59,null,null,null,0.35]
["AlphaMethylstyrene","Alpha MethylStyrene  Monomer",null,null,null,7.49,null,null,null,0]
["AMS","Alpha Methyl Styrene Monomer",null,null,null,7.5358000000000001,null,null,null,0]
["BENZYLALCOHOL","Benzyl Alcohol",null,null,null,8.7108000000000008,null,null,null,0]
["CYCLOHEXANE","Cyclohexane",null,null,null,6.5316999999999998,null,null,null,1.1599999999999999]
["CYCLOHEXANONE","Cyclohexanone",null,null,null,7.8308999999999997,null,null,null,1.26]
["DB","Glycol Ether DB",null,null,null,7.9238999999999997,null,null,null,0]
["DIACE","Diacetone Alcohol Solvent",null,null,null,7.8430999999999997,null,null,null,0.56999999999999995]
["DIBK","Di-Isobutyl Ketone",null,null,null,6.7568000000000001,null,null,null,2.56]
["DLIMONENE","D-Limonene",null,null,null,6.6006999999999998,null,null,null,0]
["DPM","Glycol Ether DPM",null,null,null,7.9428000000000001,null,null,null,2.46]
["DPNB","Glycol Ether DPNB",null,null,null,7.5643000000000002,null,null,null,0]
["DRAKEOL35","Drakeol 35 Mineral Oil",null,null,null,7.3205999999999998,null,null,null,0]
["EB","Glycol Ether EB",null,null,null,7.5130999999999997,null,null,null,2.78]
["EBACE","Glycol Ether EB Acetate",null,null,null,7.8308999999999997,null,null,null,1.53]
["EEP","Ester Solvent EEP",null,null,null,7.9114000000000004,null,null,null,3.46]
["EP","Glycol Ether EP",null,null,null,7.6045999999999996,null,null,null,3.17]
["EP18-1011","Epoxy Ester 18-1011",null,null,null,8,null,null,null,0]
["ETHACE","Ethyl Acetate",null,null,null,7.4128999999999996,null,null,null,0.59]
["ETHGLY","Ethylene Glycol",null,null,null,9.2936999999999994,null,null,null,3.01]
["EX800","Exxate 800",null,null,null,7.3045999999999998,null,null,null,0.78]
["HISOL10","SOLVENT 100",null,null,null,7.2938999999999998,null,null,null,7.39]
["HISOL15","SOLVENT 150",null,null,null,7.4348999999999998,null,null,null,6.66]
["IBUACE","Iso Butyl Acetate",null,null,null,7.2411000000000003,null,null,null,0.57999999999999996]
["IBUTANOL","Isobutanol",null,null,null,6.6844999999999999,null,null,null,2.41]
["IPA","Isopropanol 99",null,null,null,6.5833000000000004,null,null,null,0.59]
["IRG651","IRGACURE 651 LOT#",null,null,null,11.494300000000001,null,null,null,0]
["KWIKDRI66","Kwik Dri 66 solvent",null,null,null,6.4260000000000002,null,null,null,1.08]
["LACOLENE","Lacolene",null,null,null,6.0023999999999997,null,null,null,1.33]
["MACE","Methyl Acetate 99.5%",null,null,null,7.8003,null,null,null,6.7000000000000004E-2]
["MAK","Methyl Normal Amyl Ketone",null,null,null,6.8026999999999997,null,null,null,2.2400000000000002]
["MALLIC","Malic Acid",null,null,null,20,null,null,null,0]
["MEK","Methyl Ethyl Ketone (MEK)",null,null,null,6.7114000000000003,null,null,null,1.43]
["METHANOL","Methanol",null,null,null,6.6313000000000004,null,null,null,0.65]
["MIBK","Methyl Isobutyl Ketone (MIBK)",null,null,null,6.7613000000000003,null,null,null,3.74]
["MINERAL SPIRITS","Mineral Spirits 66 1%",null,null,null,6.4432999999999998,null,null,null,0.63]
["MPK","Methyl Normal Propyl Ketone",null,null,null,6.7203999999999997,null,null,null,2.7]
["MPYROL","1-Methyl-2 Pyrrolidone",null,null,null,8.5542999999999996,null,null,null,0]
["nBTOH","BUTANOL",null,null,null,6.7522000000000002,null,null,null,2.76]
["NBUACE","N-Butyl Acetate",null,null,null,7.3529,null,null,null,0.78]
["OXSOL100","OXSOL100/P-Chlorobenzotrifluoride(PCBTF)",null,null,null,11.098800000000001,null,null,null,0.12]
["PM","Glycol Ether PM",null,null,null,7.6336000000000004,null,null,null,2.33]
["PMACE","Glycol Ether PM Acetate",null,null,null,8.0320999999999998,null,null,null,1.62]
["ProCarbonate","Propylene Carbonate",null,null,null,10,null,null,null,0]
["PROPGLY","Propylene Glycol",null,null,null,8.6206999999999994,null,null,null,2.48]
["SCJ-6056","Butyl Acetate Normal UG",null,null,null,7.3529,null,null,null,0]
["SF4A","SF4A SAND FREE",null,null,null,7.2046000000000001,null,null,null,0]
["STYRENE","Styrene Acrylic Monomer 50",null,null,null,7.5358000000000001,null,null,null,0]
["SUPERLACOLENE","Super Lacolene / Lacquer Diluent",null,null,null,6.2735000000000003,null,null,null,1.47]
["SVMP","VM&P Naptha 66/3",null,null,null,6.3011999999999997,null,null,null,1.08]
["TBAC","Tertiary Butyl Acetate",null,null,null,7.2306999999999997,null,null,null,0.17199999999999999]
["TEBOL","Tertiary Butyl Alcohol",null,null,null,6.5019999999999998,null,null,null,0.39]
["TEXANOL","Texanol Solvent",null,null,null,7.9238999999999997,null,null,null,0.76]
["TOLUENE","Toluene",null,null,null,7.2515999999999998,null,null,null,3.88]
["TPM","Tri Propylene Glycol Methyl ET",null,null,null,8.0320999999999998,null,null,null,0]
["TT950","ACRYSOL TT 950 ( E2856 ) LOT#",null,null,null,9.1743000000000006,null,null,null,0]
["WASH","RECYCLED WASH TOLUENE/MEK  LOT",null,null,null,7.2515999999999998,null,null,null,0]
["WATER","WATER",null,null,null,8.3332999999999995,null,null,null,0]
["XYLENE","Xylene",null,null,null,7.2306999999999997,null,null,null,7.47]
[{"$f":"\"T400\"","v":"T400"},{"$f":"\"WHITE\"","v":"WHITE"},{"$f":"\"Normal Solid\"","v":"Normal Solid"},{"$f":"\"T400\"","v":"T400"},{"$f":"\"20000822\"","v":"20000822"},10.151,41.5,26.96,50.74,0.23176052019335064,{"$f":"MAX(J286:J379)","v":0.31367082015041159}]
[{"$f":"\"T4000\"","v":"T4000"},{"$f":"\"CRYSTAL SILVER\"","v":"CRYSTAL SILVER"},{"$f":"\"Xirallic\"","v":"Xirallic"},{"$f":"\"T4000\"","v":"T4000"},{"$f":"\"64000057\"","v":"64000057"},9.1780000000000008,25.33,17.38,66.17,0.2745653817750508]
[{"$f":"\"T4001\"","v":"T4001"},{"$f":"\"SUNBEAM GOLD\"","v":"SUNBEAM GOLD"},"Xirallic",{"$f":"\"T4001\"","v":"T4001"},{"$f":"\"64000058\"","v":"64000058"},9.1850000000000005,25.33,17.309999999999999,66.17,0.2745653817750508]
[{"$f":"\"T4002\"","v":"T4002"},{"$f":"\"RADIANT RED\"","v":"RADIANT RED"},"Xirallic",{"$f":"\"T4002\"","v":"T4002"},{"$f":"\"64000059\"","v":"64000059"},9.1989999999999998,25.24,17.13,66.489999999999995,0.25453606103813053]
[{"$f":"\"T4003\"","v":"T4003"},{"$f":"\"GALAXY BLUE\"","v":"GALAXY BLUE"},"Xirallic",{"$f":"\"T4003\"","v":"T4003"},{"$f":"\"64000060\"","v":"64000060"},9.1690000000000005,25.78,17.63,65.66,0.27805033542568924]
[{"$f":"\"T4004\"","v":"T4004"},{"$f":"\"STELLAR GREEN\"","v":"STELLAR GREEN"},"Xirallic",{"$f":"\"T4004\"","v":"T4004"},{"$f":"\"64000599\"","v":"64000599"},8.6790000000000003,19.61,15.98,71.738,0.26286140641471162]
[{"$f":"\"T4005\"","v":"T4005"},{"$f":"\"SOLARIS RED\"","v":"SOLARIS RED"},"Xirallic",{"$f":"\"T4005\"","v":"T4005"},{"$f":"\"64000600\"","v":"64000600"},8.6790000000000003,19.61,15.98,71.738,0.26286140641471162]
[{"$f":"\"T4006\"","v":"T4006"},{"$f":"\"FIRESIDE COPPER\"","v":"FIRESIDE COPPER"},"Xirallic",{"$f":"\"T4006\"","v":"T4006"},{"$f":"\"64000601\"","v":"64000601"},8.6790000000000003,19.61,15.81,71.738,0.26286140641471162]
[{"$f":"\"T4007\"","v":"T4007"},{"$f":"\"COSMIC TURQUOISE\"","v":"COSMIC TURQUOISE"},"Xirallic",{"$f":"\"T4007\"","v":"T4007"},{"$f":"\"64001188\"","v":"64001188"},8.6289999999999996,19.600000000000001,16.010000000000002,71.75,0.26286140641471162]
[{"$f":"\"T4008\"","v":"T4008"},{"$f":"\"AMETHYST DREAM\"","v":"AMETHYST DREAM"},"Xirallic",{"$f":"\"T4008\"","v":"T4008"},{"$f":"\"64001189\"","v":"64001189"},8.6289999999999996,19.600000000000001,15.95,71.75,0.26233448582125712]
[{"$f":"\"T4018\"","v":"T4018"},{"$f":"\"PRISM SILVER\"","v":"PRISM SILVER"},{"$f":"\"Other special effect\"","v":"Other special effect"},{"$f":"\"T4018\"","v":"T4018"},{"$f":"\"64001623\"","v":"64001623"},8.2690000000000001,12.68,10.63,82.263999999999996,0.15488024311814569]
[{"$f":"\"T402\"","v":"T402"},{"$f":"\"WEAK WHITE\"","v":"WEAK WHITE"},{"$f":"\"Normal Solid\"","v":"Normal Solid"},{"$f":"\"T402\"","v":"T402"},{"$f":"\"20000824\"","v":"20000824"},9.2210000000000001,30.18,22.47,60.16,0.2943137110057259]
[{"$f":"\"T4020\"","v":"T4020"},{"$f":"\"GREEN TO PURPLE\"","v":"GREEN TO PURPLE"},{"$f":"\"Other special effect\"","v":"Other special effect"},{"$f":"\"T4020\"","v":"T4020"},{"$f":"\"64001176\"","v":"64001176"},8.5310000000000006,23.11,17.36,67.180000000000007,0.29209945076082283]
[{"$f":"\"T4021\"","v":"T4021"},{"$f":"\"SILVER TO GREEN\"","v":"SILVER TO GREEN"},"Other special effect",{"$f":"\"T4021\"","v":"T4021"},{"$f":"\"64001177\"","v":"64001177"},8.5310000000000006,23.11,17.34,67.180000000000007,0.29200905076082279]
[{"$f":"\"T4022\"","v":"T4022"},{"$f":"\"GOLD TO SILVER\"","v":"GOLD TO SILVER"},"Other special effect",{"$f":"\"T4022\"","v":"T4022"},{"$f":"\"64001178\"","v":"64001178"},8.5310000000000006,23.11,17.329999999999998,67.180000000000007,0.29209945076082283]
[{"$f":"\"T4023\"","v":"T4023"},{"$f":"\"CYAN TO PURPLE\"","v":"CYAN TO PURPLE"},"Other special effect",{"$f":"\"T4023\"","v":"T4023"},{"$f":"\"64001179\"","v":"64001179"},8.5310000000000006,23.11,17.34,67.180000000000007,0.29209945076082283]
[{"$f":"\"T4024\"","v":"T4024"},{"$f":"\"BLUE TO RED\"","v":"BLUE TO RED"},"Other special effect",{"$f":"\"T4024\"","v":"T4024"},{"$f":"\"64001180\"","v":"64001180"},8.5310000000000006,23.11,17.34,67.180000000000007,0.29209945076082283]
[{"$f":"\"T4025\"","v":"T4025"},{"$f":"\"MAGENTA TO GOLD\"","v":"MAGENTA TO GOLD"},"Other special effect",{"$f":"\"T4025\"","v":"T4025"},{"$f":"\"64001181\"","v":"64001181"},8.5310000000000006,23.11,17.34,67.180000000000007,0.29209945076082283]
[{"$f":"\"T4026\"","v":"T4026"},{"$f":"\"RED TO GOLD\"","v":"RED TO GOLD"},"Other special effect",{"$f":"\"T4026\"","v":"T4026"},{"$f":"\"64001182\"","v":"64001182"},8.5310000000000006,23.11,17.34,67.180000000000007,0.29209945076082283]
[{"$f":"\"T403\"","v":"T403"},{"$f":"\"MICRO WHITE\"","v":"MICRO WHITE"},{"$f":"\"Flop Adjuster/Tone controller\"","v":"Flop Adjuster/Tone controller"},{"$f":"\"T403\"","v":"T403"},{"$f":"\"64001238\"","v":"64001238"},9.0299999999999994,28.03,21.16,64.08,0.24131358835185748]
[{"$f":"\"T4031\"","v":"T4031"},{"$f":"\"AUTUMN MYSTERY\"","v":"AUTUMN MYSTERY"},{"$f":"\"Pearlescent\"","v":"Pearlescent"},{"$f":"\"T4031\"","v":"T4031"},{"$f":"\"64000989\"","v":"64000989"},8.4710000000000001,19.63,16.79,71.709999999999994,0.26296679053340249]
[{"$f":"\"T4032\"","v":"T4032"},{"$f":"\"VIOLA FANTASY\"","v":"VIOLA FANTASY"},{"$f":"\"Pearlescent\"","v":"Pearlescent"},{"$f":"\"T4032\"","v":"T4032"},{"$f":"\"64000990\"","v":"64000990"},8.4710000000000001,19.579999999999998,16.399999999999999,71.900000000000006,0.26296679053340249]
[{"$f":"\"T4033\"","v":"T4033"},{"$f":"\"ARTIC FIRE\"","v":"ARTIC FIRE"},{"$f":"\"Pearlescent\"","v":"Pearlescent"},{"$f":"\"T4033\"","v":"T4033"},{"$f":"\"64001066\"","v":"64001066"},8.6120000000000001,19.63,16.37,71.716999999999999,0.27190103705618979]
[{"$f":"\"T4034\"","v":"T4034"},{"$f":"\"TROPIC SUNRISE\"","v":"TROPIC SUNRISE"},{"$f":"\"Pearlescent\"","v":"Pearlescent"},{"$f":"\"T4034\"","v":"T4034"},{"$f":"\"64001067\"","v":"64001067"},8.6120000000000001,19.63,16.27,71.716999999999999,0.26253567561011115]
[{"$f":"\"T4035\"","v":"T4035"},{"$f":"\"LAPIS SUNLIGHT\"","v":"LAPIS SUNLIGHT"},{"$f":"\"Other special effect\"","v":"Other special effect"},{"$f":"\"T4035\"","v":"T4035"},{"$f":"\"64002005\"","v":"64002005"},8.5540000000000003,19.62,14.98,71.790000000000006,0.26296679053340249]
[{"$f":"\"T4037\"","v":"T4037"},{"$f":"\"SILVER GLASS FLAKE\"","v":"SILVER GLASS FLAKE"},{"$f":"\"Other special effect\"","v":"Other special effect"},{"$f":"\"T4037\"","v":"T4037"},{"$f":"\"64002116\"","v":"64002116"},8.3789999999999996,11.52,10.119999999999999,83.75,0.22531594320449666]
[{"$f":"\"T404\"","v":"T404"},{"$f":"\"BLACK\"","v":"BLACK"},{"$f":"\"Normal Solid\"","v":"Normal Solid"},{"$f":"\"T404\"","v":"T404"},{"$f":"\"20000825\"","v":"20000825"},8.3759999999999994,14.93,14.35,76.25,0.27781133805359509]
[{"$f":"\"T4040\"","v":"T4040"},{"$f":"\"ORANGE FLASH\"","v":"ORANGE FLASH"},{"$f":"\"Pearlescent\"","v":"Pearlescent"},{"$f":"\"T4040\"","v":"T4040"},{"$f":"\"64001016\"","v":"64001016"},8.4480000000000004,17.579999999999998,16.27,71.72,0.27403852774050186]
[{"$f":"\"T4042\"","v":"T4042"},{"$f":"\"BLUE ALUMINUM\"","v":"BLUE ALUMINUM"},{"$f":"\"Metallic\"","v":"Metallic"},{"$f":"\"T4042\"","v":"T4042"},{"$f":"\"64003171\"","v":"64003171"},8.34,16.93,15.41,73.7,0.23365918600561622]
[{"$f":"\"T405\"","v":"T405"},{"$f":"\"BLACK\"","v":"BLACK"},{"$f":"\"Normal Solid\"","v":"Normal Solid"},{"$f":"\"T405\"","v":"T405"},{"$f":"\"20000826\"","v":"20000826"},8.6219999999999999,19.57,16.73,71.41,0.28132240773014772]
[{"$f":"\"T4059\"","v":"T4059"},{"$f":"\"ANDARO VIOLET\"","v":"ANDARO VIOLET"},"Normal Solid",{"$f":"\"T4059\"","v":"T4059"},{"$f":"\"64003233\"","v":"64003233"},8.4049999999999994,17.100000000000001,15.81,78.900000000000006,0.11104438475399998]
[{"$f":"\"T406\"","v":"T406"},{"$f":"\"BLUE BLACK\"","v":"BLUE BLACK"},"Normal Solid",{"$f":"\"T406\"","v":"T406"},{"$f":"\"20000827\"","v":"20000827"},8.4949999999999992,19.170000000000002,17.489999999999998,70.95,0.28918867244928531]
[{"$f":"\"T407\"","v":"T407"},{"$f":"\"JET BLACK\"","v":"JET BLACK"},"Normal Solid",{"$f":"\"T407\"","v":"T407"},{"$f":"\"64000001\"","v":"64000001"},8.3699999999999992,14.7,14.3,77.47,0.24782520857921467]
[{"$f":"\"T409\"","v":"T409"},{"$f":"\"DEEP BLACK\"","v":"DEEP BLACK"},"Normal Solid",{"$f":"\"T409\"","v":"T409"},{"$f":"\"64000073\"","v":"64000073"},8.3290000000000006,14.38,13.78,80.09,0.16511951886478671]
[{"$f":"\"T411\"","v":"T411"},{"$f":"\"BLUE\"","v":"BLUE"},"Normal Solid",{"$f":"\"T411\"","v":"T411"},{"$f":"\"20000830\"","v":"20000830"},8.5220000000000002,16.989999999999998,15.13,75.55,0.22147554454499063]
[{"$f":"\"T412\"","v":"T412"},{"$f":"\"TRANS BLUE\"","v":"TRANS BLUE"},"Normal Solid",{"$f":"\"T412\"","v":"T412"},{"$f":"\"20000831\"","v":"20000831"},8.4529999999999994,15.86,14.45,76.959999999999994,0.2283752029561272]
[{"$f":"\"T413\"","v":"T413"},{"$f":"\"BR. BLUE\"","v":"BR. BLUE"},"Normal Solid",{"$f":"\"T413\"","v":"T413"},{"$f":"\"20000832\"","v":"20000832"},8.4979999999999993,20.260000000000002,18.39,71,0.27269893788147181]
[{"$f":"\"T414\"","v":"T414"},{"$f":"\"RICH BLUE\"","v":"RICH BLUE"},"Normal Solid",{"$f":"\"T414\"","v":"T414"},{"$f":"\"20000833\"","v":"20000833"},8.4540000000000006,19.21,17.72,71.94,0.27721024151617929]
[{"$f":"\"T415\"","v":"T415"},{"$f":"\"BLUE\"","v":"BLUE"},"Normal Solid",{"$f":"\"T415\"","v":"T415"},{"$f":"\"20000834\"","v":"20000834"},8.3859999999999992,15.17,14.59,76.42,0.2532716880486976]
[{"$f":"\"T421\"","v":"T421"},{"$f":"\"OLIVE\"","v":"OLIVE"},"Normal Solid",{"$f":"\"T421\"","v":"T421"},{"$f":"\"20000838\"","v":"20000838"},8.4830000000000005,16.53,15.09,75.91,0.23496454392781838]
[{"$f":"\"T422\"","v":"T422"},{"$f":"\"YELLOW\"","v":"YELLOW"},"Normal Solid",{"$f":"\"T422\"","v":"T422"},{"$f":"\"20000839\"","v":"20000839"},8.7970000000000006,21.31,16.97,70.349999999999994,0.26032675678472972]
[{"$f":"\"T423\"","v":"T423"},{"$f":"\"YELLOW\"","v":"YELLOW"},"Normal Solid",{"$f":"\"T423\"","v":"T423"},{"$f":"\"20000840\"","v":"20000840"},8.4550000000000001,18.399999999999999,17,71.819999999999993,0.30388916606626326]
[{"$f":"\"T425\"","v":"T425"},{"$f":"\"YELLOW\"","v":"YELLOW"},"Normal Solid",{"$f":"\"T425\"","v":"T425"},{"$f":"\"20000842\"","v":"20000842"},8.4890000000000008,15.7,13.98,77.03,0.22600807541076329]
[{"$f":"\"T426\"","v":"T426"},{"$f":"\"YELLOW\"","v":"YELLOW"},"Normal Solid",{"$f":"\"T426\"","v":"T426"},{"$f":"\"20000843\"","v":"20000843"},8.4649999999999999,17.45,15.96,73.77,0.26500441737301422]
[{"$f":"\"T427\"","v":"T427"},{"$f":"\"YELLOW\"","v":"YELLOW"},"Normal Solid",{"$f":"\"T427\"","v":"T427"},{"$f":"\"64000020\"","v":"64000020"},8.7629999999999999,22.5,17.41,73.599999999999994,0.15493109242019282]
[{"$f":"\"T4281\"","v":"T4281"},{"$f":"\"SOLID YELLOW\"","v":"SOLID YELLOW"},"Normal Solid",{"$f":"\"T4281\"","v":"T4281"},{"$f":"\"64001548\"","v":"64001548"},9.7720000000000002,32.06,19.21,59.39,0.24710483078993564]
[{"$f":"\"T429\"","v":"T429"},{"$f":"\"YELLOW\"","v":"YELLOW"},"Normal Solid",{"$f":"\"T429\"","v":"T429"},{"$f":"\"20000845\"","v":"20000845"},8.5649999999999995,18.600000000000001,16.09,73.260000000000005,0.25235063268240654]
[{"$f":"\"T430\"","v":"T430"},{"$f":"\"HS TRANSP. GREEN\"","v":"HS TRANSP. GREEN"},"Normal Solid",{"$f":"\"T430\"","v":"T430"},{"$f":"\"64000089\"","v":"64000089"},8.5540000000000003,20.99,18.28,70.06,0.26618643130247166]
[{"$f":"\"T431\"","v":"T431"},{"$f":"\"HS PHTHALO GREEN\"","v":"HS PHTHALO GREEN"},"Normal Solid",{"$f":"\"T431\"","v":"T431"},{"$f":"\"64000090\"","v":"64000090"},8.4710000000000001,23.5,20.190000000000001,67.819999999999993,0.26735943729597172]
[{"$f":"\"T4311\"","v":"T4311"},{"$f":"\"HC GREEN BLUE\"","v":"HC GREEN BLUE"},"Normal Solid",{"$f":"\"T4311\"","v":"T4311"},{"$f":"\"64001592\"","v":"64001592"},8.4710000000000001,17.5,13.884,74.790000000000006,0.21485973532551544]
[{"$f":"\"T432\"","v":"T432"},{"$f":"\"RED\"","v":"RED"},"Normal Solid",{"$f":"\"T432\"","v":"T432"},{"$f":"\"20000846\"","v":"20000846"},8.5909999999999993,17.190000000000001,14.6,75.010000000000005,0.24245610740569448]
[{"$f":"\"T4321\"","v":"T4321"},{"$f":"\"HC YELLOW\"","v":"HC YELLOW"},"Normal Solid",{"$f":"\"T4321\"","v":"T4321"},{"$f":"\"64001619\"","v":"64001619"},8.7210000000000001,25.06,21.832999999999998,65.897999999999996,0.29937210742376713]
[{"$f":"\"T433\"","v":"T433"},{"$f":"\"ORANGE\"","v":"ORANGE"},"Normal Solid",{"$f":"\"T433\"","v":"T433"},{"$f":"\"20000847\"","v":"20000847"},8.4920000000000009,21.85,20.2,69.510000000000005,0.26980034061757757]
[{"$f":"\"T4341\"","v":"T4341"},{"$f":"\"HC TRANSOXIDE RED\"","v":"HC TRANSOXIDE RED"},"Normal Solid",{"$f":"\"T4341\"","v":"T4341"},{"$f":"\"64001618\"","v":"64001618"},8.4710000000000001,21.09,16.998999999999999,68.716999999999999,0.31285782054403294]
[{"$f":"\"T4342\"","v":"T4342"},{"$f":"\"HC MAGENTA\"","v":"HC MAGENTA"},"Normal Solid",{"$f":"\"T4342\"","v":"T4342"},{"$f":"\"64001616\"","v":"64001616"},8.5540000000000003,18,15.396000000000001,73.084000000000003,0.30211865939611332]
[{"$f":"\"T4343\"","v":"T4343"},{"$f":"\"HC ORGANIC RED\"","v":"HC ORGANIC RED"},"Normal Solid",{"$f":"\"T4343\"","v":"T4343"},{"$f":"\"64001617\"","v":"64001617"},8.7210000000000001,15.07,12.747,77.558999999999997,0.22896220554708302]
[{"$f":"\"T435\"","v":"T435"},{"$f":"\"SALMON RED\"","v":"SALMON RED"},"Normal Solid",{"$f":"\"T435\"","v":"T435"},{"$f":"\"20000849\"","v":"20000849"},8.4730000000000008,20.22,18.71,70.2,0.29803437268495953]
[{"$f":"\"T436\"","v":"T436"},{"$f":"\"RED\"","v":"RED"},"Normal Solid",{"$f":"\"T436\"","v":"T436"},{"$f":"\"20000850\"","v":"20000850"},8.89,23.2,17.11,68.650000000000006,0.25300323712952671]
[{"$f":"\"T438\"","v":"T438"},{"$f":"\"ROSE\"","v":"ROSE"},"Normal Solid",{"$f":"\"T438\"","v":"T438"},{"$f":"\"20000852\"","v":"20000852"},8.4740000000000002,19.989999999999998,18.350000000000001,71.42,0.26749815692706047]
[{"$f":"\"T440\"","v":"T440"},{"$f":"\"RED\"","v":"RED"},"Normal Solid",{"$f":"\"T440\"","v":"T440"},{"$f":"\"20000854\"","v":"20000854"},8.4670000000000005,17.2,15.74,73.3,0.2884923789893245]
[{"$f":"\"T441\"","v":"T441"},{"$f":"\"CARMINE\"","v":"CARMINE"},"Normal Solid",{"$f":"\"T441\"","v":"T441"},{"$f":"\"20000855\"","v":"20000855"},8.4659999999999993,18.95,17.46,72.45,0.26773451260548892]
[{"$f":"\"T442\"","v":"T442"},{"$f":"\"BROWN\"","v":"BROWN"},"Normal Solid",{"$f":"\"T442\"","v":"T442"},{"$f":"\"20000856\"","v":"20000856"},8.48,19.670000000000002,18.05,71.83,0.26480092759977408]
[{"$f":"\"T443\"","v":"T443"},{"$f":"\"VIOLET\"","v":"VIOLET"},"Normal Solid",{"$f":"\"T443\"","v":"T443"},{"$f":"\"20000857\"","v":"20000857"},8.3889999999999993,15.63,14.86,75.87,0.26432341237274942]
[{"$f":"\"T444\"","v":"T444"},{"$f":"\"BORDEAUX\"","v":"BORDEAUX"},"Normal Solid",{"$f":"\"T444\"","v":"T444"},{"$f":"\"20000858\"","v":"20000858"},8.5259999999999998,21.68,19.52,69.2,0.25703239681219636]
[{"$f":"\"T445\"","v":"T445"},{"$f":"\"MAGENTA\"","v":"MAGENTA"},"Normal Solid",{"$f":"\"T445\"","v":"T445"},{"$f":"\"20000859\"","v":"20000859"},8.4960000000000004,18.04,16.12,74.930000000000007,0.21278812529002597]
[{"$f":"\"T447\"","v":"T447"},{"$f":"\"BRIGHT RED\"","v":"BRIGHT RED"},"Normal Solid",{"$f":"\"T447\"","v":"T447"},{"$f":"\"64000021\"","v":"64000021"},8.7629999999999999,27.95,23.96,64.5,0.22446866878027516]
[{"$f":"\"T448\"","v":"T448"},{"$f":"\"RUSSET\"","v":"RUSSET"},"Normal Solid",{"$f":"\"T448\"","v":"T448"},{"$f":"\"64000099\"","v":"64000099"},8.7629999999999999,15.9,14.97,76.900000000000006,0.22690422810950633]
[{"$f":"\"T451\"","v":"T451"},{"$f":"\"WHT PEARL\"","v":"WHT PEARL"},{"$f":"\"Pearlescent\"","v":"Pearlescent"},{"$f":"\"T451\"","v":"T451"},{"$f":"\"20000861\"","v":"20000861"},8.64,19.72,16.420000000000002,71.48,0.27194159778262061]
[{"$f":"\"T452\"","v":"T452"},{"$f":"\"WHITE PRL\"","v":"WHITE PRL"},"Pearlescent",{"$f":"\"T452\"","v":"T452"},{"$f":"\"20000862\"","v":"20000862"},8.6449999999999996,19.72,16.47,71.48,0.27194159778262061]
[{"$f":"\"T453\"","v":"T453"},{"$f":"\"WHITEPEARL\"","v":"WHITEPEARL"},"Pearlescent",{"$f":"\"T453\"","v":"T453"},{"$f":"\"20000863\"","v":"20000863"},8.6379999999999999,20.28,16.77,70.599999999999994,0.28210955257794801]
[{"$f":"\"T454\"","v":"T454"},{"$f":"\"BRIGHT RED PEARL\"","v":"BRIGHT RED PEARL"},"Pearlescent",{"$f":"\"T454\"","v":"T454"},{"$f":"\"64000022\"","v":"64000022"},9.0879999999999992,23.24,17.22,68.37,0.25858348744766307]
[{"$f":"\"T455\"","v":"T455"},{"$f":"\"BLUE PEARL\"","v":"BLUE PEARL"},"Pearlescent",{"$f":"\"T455\"","v":"T455"},{"$f":"\"20000864\"","v":"20000864"},8.6519999999999992,19.46,16.13,71.900000000000006,0.26687458150521165]
[{"$f":"\"T456\"","v":"T456"},{"$f":"\"BLUE PEARL\"","v":"BLUE PEARL"},"Pearlescent",{"$f":"\"T456\"","v":"T456"},{"$f":"\"20000865\"","v":"20000865"},8.6479999999999997,19.46,16.170000000000002,71.900000000000006,0.26666381326782979]
[{"$f":"\"T457\"","v":"T457"},{"$f":"\"GREENPEARL\"","v":"GREENPEARL"},"Pearlescent",{"$f":"\"T457\"","v":"T457"},{"$f":"\"20000866\"","v":"20000866"},8.6479999999999997,19.46,16.09,71.900000000000006,0.26687458150521165]
[{"$f":"\"T458\"","v":"T458"},{"$f":"\"GREEN PRL\"","v":"GREEN PRL"},"Pearlescent",{"$f":"\"T458\"","v":"T458"},{"$f":"\"20000867\"","v":"20000867"},8.6560000000000006,19.38,16.02,72.099999999999994,0.26296679053340249]
[{"$f":"\"T459\"","v":"T459"},{"$f":"\"COPPER PRL\"","v":"COPPER PRL"},"Pearlescent",{"$f":"\"T459\"","v":"T459"},{"$f":"\"64000023\"","v":"64000023"},9.0879999999999992,23.2,17.41,68.3,0.29311910977151884]
[{"$f":"\"T460\"","v":"T460"},{"$f":"\"YELLOW PRL\"","v":"YELLOW PRL"},"Pearlescent",{"$f":"\"T460\"","v":"T460"},{"$f":"\"20000868\"","v":"20000868"},8.6590000000000007,19.36,16.079999999999998,72.12,0.26286140641471162]
[{"$f":"\"T461\"","v":"T461"},{"$f":"\"YELLOW PRL\"","v":"YELLOW PRL"},"Pearlescent",{"$f":"\"T461\"","v":"T461"},{"$f":"\"20000869\"","v":"20000869"},8.6479999999999997,19.36,16.09,72.12,0.26286140641471162]
[{"$f":"\"T462\"","v":"T462"},{"$f":"\"FINE RED PRL\"","v":"FINE RED PRL"},"Pearlescent",{"$f":"\"T462\"","v":"T462"},{"$f":"\"64000024\"","v":"64000024"},9.0879999999999992,23.64,17.399999999999999,67.84,0.26165718009503386]
[{"$f":"\"T465\"","v":"T465"},{"$f":"\"RED PEARL\"","v":"RED PEARL"},"Pearlescent",{"$f":"\"T465\"","v":"T465"},{"$f":"\"20000872\"","v":"20000872"},8.6479999999999997,19.36,16.09,72.12,0.26286140641471162]
[{"$f":"\"T466\"","v":"T466"},{"$f":"\"ORANGE PEARL\"","v":"ORANGE PEARL"},"Pearlescent",{"$f":"\"T466\"","v":"T466"},{"$f":"\"64000945\"","v":"64000945"},8.6039999999999992,19.600000000000001,16.57,71.738,0.28200117992959339]
[{"$f":"\"T468\"","v":"T468"},{"$f":"\"VIOLET PRL\"","v":"VIOLET PRL"},"Pearlescent",{"$f":"\"T468\"","v":"T468"},{"$f":"\"20000874\"","v":"20000874"},8.6590000000000007,17.989999999999998,14.91,74.16,0.24255022316368022]
[{"$f":"\"T4705\"","v":"T4705"},{"$f":"\"LIQUID METAL 2\"","v":"LIQUID METAL 2"},{"$f":"\"Metallic\"","v":"Metallic"},{"$f":"\"T4705\"","v":"T4705"},{"$f":"\"64003222\"","v":"64003222"},8.2789999999999999,15.83,21.65,74.39,0.15767044284633444]
[{"$f":"\"T471\"","v":"T471"},{"$f":"\"EX. FINE MET\"","v":"EX. FINE MET"},"Metallic",{"$f":"\"T471\"","v":"T471"},{"$f":"\"64000025\"","v":"64000025"},8.3450000000000006,17.5,15.84,72.900000000000006,0.3002323282317208]
[{"$f":"\"T472\"","v":"T472"},{"$f":"\"FINE LENT. MET\"","v":"FINE LENT. MET"},"Metallic",{"$f":"\"T472\"","v":"T472"},{"$f":"\"64000026\"","v":"64000026"},8.4290000000000003,18.760000000000002,16.14,71.209999999999994,0.29829562531855913]
[{"$f":"\"T473\"","v":"T473"},{"$f":"\"MED METALLIC\"","v":"MED METALLIC"},"Metallic",{"$f":"\"T473\"","v":"T473"},{"$f":"\"64000027\"","v":"64000027"},8.4290000000000003,18.11,15.71,72.3,0.30281878921850264]
[{"$f":"\"T474\"","v":"T474"},{"$f":"\"FINE METALLIC\"","v":"FINE METALLIC"},"Metallic",{"$f":"\"T474\"","v":"T474"},{"$f":"\"64000028\"","v":"64000028"},8.5120000000000005,17.899999999999999,16.04,72.099999999999994,0.31367082015041159]
[{"$f":"\"T475\"","v":"T475"},{"$f":"\"MED LENT. MET\"","v":"MED LENT. MET"},"Metallic",{"$f":"\"T475\"","v":"T475"},{"$f":"\"64000029\"","v":"64000029"},8.5120000000000005,18.3,16.190000000000001,71.5,0.31299430291302988]
[{"$f":"\"T476\"","v":"T476"},{"$f":"\"COARSE LENT. MET\"","v":"COARSE LENT. MET"},"Metallic",{"$f":"\"T476\"","v":"T476"},{"$f":"\"64000030\"","v":"64000030"},8.4290000000000003,17.7,15.85,72.599999999999994,0.29820138227330517]
[{"$f":"\"T477\"","v":"T477"},{"$f":"\"EX. COARSE MET\"","v":"EX. COARSE MET"},"Metallic",{"$f":"\"T477\"","v":"T477"},{"$f":"\"64000031\"","v":"64000031"},8.5960000000000001,17.899999999999999,16.28,72.2,0.30485380171113868]
[{"$f":"\"T479\"","v":"T479"},{"$f":"\"COARSE SILVER DOLLAR AL\"","v":"COARSE SILVER DOLLAR AL"},"Metallic",{"$f":"\"T479\"","v":"T479"},{"$f":"\"64000891\"","v":"64000891"},8.5459999999999994,18.96,15.84,70.819999999999993,0.30358419380070284]
[{"$f":"\"T489\"","v":"T489"},{"$f":"\"GOLD ALUM\"","v":"GOLD ALUM"},"Metallic",{"$f":"\"T489\"","v":"T489"},{"$f":"\"20000883\"","v":"20000883"},8.4819999999999993,17.36,15.35,72.540000000000006,0.30469503797999931]
[{"$f":"\"T490\"","v":"T490"},{"$f":"\"CLEAR\"","v":"CLEAR"},{"$f":"\"Mixing Clear\"","v":"Mixing Clear"},{"$f":"\"T490\"","v":"T490"},{"$f":"\"20000884\"","v":"20000884"},8.3699999999999992,17.3,17.34,71.88,0.29001879369297179]
[{"$f":"\"T491\"","v":"T491"},{"$f":"\"MATT BASE\"","v":"MATT BASE"},{"$f":"\"Matting Base/Flattener\"","v":"Matting Base/Flattener"},{"$f":"\"T491\"","v":"T491"},{"$f":"\"20000885\"","v":"20000885"},8.7729999999999997,21.86,17.7,71.94,0.17913386250119423]
[{"$f":"\"VM4350\"","v":"VM4350"},{"$f":"\"VIVID RUBY\"","v":"VIVID RUBY"},{"$f":"\"High Strength\"","v":"High Strength"},{"$f":"\"VM4350\"","v":"VM4350"},{"$f":"\"64002055\"","v":"64002055"},8.2539999999999996,34.75,26.56,0,0.54241388599999985]
[{"$f":"\"VM4420\"","v":"VM4420"},{"$f":"\"MINI GOLD FLAKE\"","v":"MINI GOLD FLAKE"},{"$f":"\"Other special effect\"","v":"Other special effect"},{"$f":"\"VM4420\"","v":"VM4420"},{"$f":"\"64001950\"","v":"64001950"},11.683999999999999,100,100,0,0]
[{"$f":"\"VM4421\"","v":"VM4421"},{"$f":"\"MINI SILVER FLAKE\"","v":"MINI SILVER FLAKE"},"Other special effect",{"$f":"\"VM4421\"","v":"VM4421"},{"$f":"\"64001951\"","v":"64001951"},11.683999999999999,100,100,0,0]
[{"$f":"\"VM4422\"","v":"VM4422"},{"$f":"\"BIG RED FLAKE\"","v":"BIG RED FLAKE"},"Other special effect",{"$f":"\"VM4422\"","v":"VM4422"},{"$f":"\"64001995\"","v":"64001995"},11.683999999999999,100,100,0,0]
[{"$f":"\"VM4423\"","v":"VM4423"},{"$f":"\"BIG ORANGE FLAKE\"","v":"BIG ORANGE FLAKE"},"Other special effect",{"$f":"\"VM4423\"","v":"VM4423"},{"$f":"\"64001996\"","v":"64001996"},11.683999999999999,100,100,0,0]
[{"$f":"\"VM4424\"","v":"VM4424"},{"$f":"\"BIG BLUE FLAKE\"","v":"BIG BLUE FLAKE"},"Other special effect",{"$f":"\"VM4424\"","v":"VM4424"},{"$f":"\"64001998\"","v":"64001998"},11.683999999999999,100,100,0,0]
[{"$f":"\"VM4425\"","v":"VM4425"},{"$f":"\"BIG PURPLE FLAKE\"","v":"BIG PURPLE FLAKE"},"Other special effect",{"$f":"\"VM4425\"","v":"VM4425"},{"$f":"\"64001999\"","v":"64001999"},11.683999999999999,100,100,0,0]
[{"$f":"\"VM4426\"","v":"VM4426"},{"$f":"\"BIG GREEN FLAKE\"","v":"BIG GREEN FLAKE"},"Other special effect",{"$f":"\"VM4426\"","v":"VM4426"},{"$f":"\"64002000\"","v":"64002000"},11.683999999999999,100,100,0,0]
[{"$f":"\"VWM500\"","v":"VWM500"},{"$f":"\"COMPLIANT MIDCOAT\"","v":"COMPLIANT MIDCOAT"},{"$f":"\"Base Maker\"","v":"Base Maker"},{"$f":"\"VWM500\"","v":"VWM500"},{"$f":"\"64002436\"","v":"64002436"},9.7370000000000001,22.06,22.86,0.04,0.24603288681599997]